| Back to Multiple platform build/check report for BioC 3.8 | 
 | 
This page was generated on 2019-04-16 11:51:26 -0400 (Tue, 16 Apr 2019).
| Package 511/1649 | Hostname | OS / Arch | INSTALL | BUILD | CHECK | BUILD BIN | ||||||
| fCI 1.12.0 Shaojun Tang 
 | malbec1 | Linux (Ubuntu 16.04.6 LTS) / x86_64 | OK | [ OK ] | OK |  | ||||||
| merida1 | OS X 10.11.6 El Capitan / x86_64 | OK | OK | WARNINGS | OK |  | 
| Package: fCI | 
| Version: 1.12.0 | 
| Command: /home/biocbuild/bbs-3.8-bioc/R/bin/R CMD build --keep-empty-dirs --no-resave-data fCI | 
| StartedAt: 2019-04-15 20:11:13 -0400 (Mon, 15 Apr 2019) | 
| EndedAt: 2019-04-15 20:11:49 -0400 (Mon, 15 Apr 2019) | 
| EllapsedTime: 36.0 seconds | 
| RetCode: 0 | 
| Status: OK | 
| PackageFile: fCI_1.12.0.tar.gz | 
| PackageFileSize: 1.263 MiB | 
##############################################################################
##############################################################################
###
### Running command:
###
###   /home/biocbuild/bbs-3.8-bioc/R/bin/R CMD build --keep-empty-dirs --no-resave-data fCI
###
##############################################################################
##############################################################################
* checking for file ‘fCI/DESCRIPTION’ ... OK
* preparing ‘fCI’:
* checking DESCRIPTION meta-information ... OK
* installing the package to build vignettes
* creating vignettes ... OK
Warning: ‘inst/doc’ file
    ‘fCI.html’
  ignored as vignettes have been rebuilt.
  Run R CMD build with --no-build-vignettes to prevent rebuilding.
* checking for LF line-endings in source and make files and shell scripts
* checking for empty or unneeded directories
* looking to see if a ‘data/datalist’ file should be added
* building ‘fCI_1.12.0.tar.gz’