| Back to Multiple platform build/check report for BioC 3.8 | 
 | 
This page was generated on 2019-04-16 11:52:11 -0400 (Tue, 16 Apr 2019).
| Package 489/1649 | Hostname | OS / Arch | INSTALL | BUILD | CHECK | BUILD BIN | ||||||
| esetVis 1.8.0 Laure Cougnaud 
 | malbec1 | Linux (Ubuntu 16.04.6 LTS) / x86_64 | OK | [ OK ] | OK |  | ||||||
| merida1 | OS X 10.11.6 El Capitan / x86_64 | OK | OK | OK | OK |  | 
| Package: esetVis | 
| Version: 1.8.0 | 
| Command: /home/biocbuild/bbs-3.8-bioc/R/bin/R CMD build --keep-empty-dirs --no-resave-data esetVis | 
| StartedAt: 2019-04-15 20:42:15 -0400 (Mon, 15 Apr 2019) | 
| EndedAt: 2019-04-15 20:44:39 -0400 (Mon, 15 Apr 2019) | 
| EllapsedTime: 144.2 seconds | 
| RetCode: 0 | 
| Status: OK | 
| PackageFile: esetVis_1.8.0.tar.gz | 
| PackageFileSize: 2.109 MiB | 
############################################################################## ############################################################################## ### ### Running command: ### ### /home/biocbuild/bbs-3.8-bioc/R/bin/R CMD build --keep-empty-dirs --no-resave-data esetVis ### ############################################################################## ############################################################################## * checking for file ‘esetVis/DESCRIPTION’ ... OK * preparing ‘esetVis’: * checking DESCRIPTION meta-information ... OK * installing the package to build vignettes * creating vignettes ... OK * checking for LF line-endings in source and make files and shell scripts * checking for empty or unneeded directories * building ‘esetVis_1.8.0.tar.gz’