| Back to Multiple platform build/check report for BioC 3.8 | 
 | 
This page was generated on 2019-04-16 11:56:12 -0400 (Tue, 16 Apr 2019).
| Package 447/1649 | Hostname | OS / Arch | INSTALL | BUILD | CHECK | BUILD BIN | ||||||
| easyRNASeq 2.18.4 Nicolas Delhomme 
 | malbec1 | Linux (Ubuntu 16.04.6 LTS) / x86_64 | OK | OK | OK |  | ||||||
| merida1 | OS X 10.11.6 El Capitan / x86_64 | OK | OK | OK | [ OK ] |  | 
| Package: easyRNASeq | 
| Version: 2.18.4 | 
| Command: rm -rf easyRNASeq.buildbin-libdir && mkdir easyRNASeq.buildbin-libdir && /Users/biocbuild/BBS/utils/build-universal.sh easyRNASeq_2.18.4.tar.gz /Library/Frameworks/R.framework/Versions/Current/Resources/bin/R easyRNASeq.buildbin-libdir | 
| StartedAt: 2019-04-16 03:59:09 -0400 (Tue, 16 Apr 2019) | 
| EndedAt: 2019-04-16 03:59:48 -0400 (Tue, 16 Apr 2019) | 
| EllapsedTime: 39.2 seconds | 
| RetCode: 0 | 
| Status: OK | 
| PackageFile: easyRNASeq_2.18.4.tgz | 
| PackageFileSize: 939.5 KiB | 
############################################################################## ############################################################################## ### ### Running command: ### ### rm -rf easyRNASeq.buildbin-libdir && mkdir easyRNASeq.buildbin-libdir && /Users/biocbuild/BBS/utils/build-universal.sh easyRNASeq_2.18.4.tar.gz /Library/Frameworks/R.framework/Versions/Current/Resources/bin/R easyRNASeq.buildbin-libdir ### ############################################################################## ############################################################################## >>>>>>> >>>>>>> INSTALLATION WITH 'R CMD INSTALL --preclean --no-multiarch --library=easyRNASeq.buildbin-libdir easyRNASeq_2.18.4.tar.gz' >>>>>>> * installing *source* package ‘easyRNASeq’ ... ** R ** data ** inst ** byte-compile and prepare package for lazy loading No methods found in package ‘IRanges’ for request: ‘rev’ when loading ‘easyRNASeq’ Creating a generic function for ‘basename’ from package ‘base’ in package ‘easyRNASeq’ Creating a generic function for ‘file.exists’ from package ‘base’ in package ‘easyRNASeq’ ** help *** installing help indices ** building package indices ** installing vignettes ** testing if installed package can be loaded No methods found in package ‘IRanges’ for request: ‘rev’ when loading ‘easyRNASeq’ * DONE (easyRNASeq)