| Back to Multiple platform build/check report for BioC 3.8 | 
 | 
This page was generated on 2019-04-13 11:28:42 -0400 (Sat, 13 Apr 2019).
| Package 433/1649 | Hostname | OS / Arch | INSTALL | BUILD | CHECK | BUILD BIN | ||||||
| drawProteins 1.2.0 Paul Brennan 
 | malbec1 | Linux (Ubuntu 16.04.6 LTS) / x86_64 | OK | OK | OK |  | ||||||
| tokay1 | Windows Server 2012 R2 Standard / x64 | OK | OK | OK | [ OK ] |  | ||||||
| merida1 | OS X 10.11.6 El Capitan / x86_64 | OK | OK | OK | OK |  | 
| Package: drawProteins | 
| Version: 1.2.0 | 
| Command: rm -rf drawProteins.buildbin-libdir && mkdir drawProteins.buildbin-libdir && C:\Users\biocbuild\bbs-3.8-bioc\R\bin\R.exe CMD INSTALL --merge-multiarch --build --library=drawProteins.buildbin-libdir drawProteins_1.2.0.tar.gz | 
| StartedAt: 2019-04-13 07:12:15 -0400 (Sat, 13 Apr 2019) | 
| EndedAt: 2019-04-13 07:12:26 -0400 (Sat, 13 Apr 2019) | 
| EllapsedTime: 10.7 seconds | 
| RetCode: 0 | 
| Status: OK | 
| PackageFile: drawProteins_1.2.0.zip | 
| PackageFileSize: 867.1 KiB | 
##############################################################################
##############################################################################
###
### Running command:
###
###   rm -rf drawProteins.buildbin-libdir && mkdir drawProteins.buildbin-libdir && C:\Users\biocbuild\bbs-3.8-bioc\R\bin\R.exe CMD INSTALL --merge-multiarch --build --library=drawProteins.buildbin-libdir drawProteins_1.2.0.tar.gz
###
##############################################################################
##############################################################################
install for i386
* installing *source* package 'drawProteins' ...
** R
** data
** inst
** byte-compile and prepare package for lazy loading
** help
*** installing help indices
  converting help for package 'drawProteins'
    finding HTML links ... done
    drawProteins                            html  
    draw_canvas                             html  
    draw_chains                             html  
    draw_domains                            html  
    draw_folding                            html  
    draw_motif                              html  
    draw_phospho                            html  
    draw_recept_dom                         html  
    draw_regions                            html  
    draw_repeat                             html  
    extract_feat_acc                        html  
    extract_names                           html  
    extract_transcripts                     html  
    feature_to_dataframe                    html  
    five_rel_data                           html  
    five_rel_list                           html  
    get_features                            html  
    parse_gff                               html  
    phospho_site_info                       html  
    protein_json                            html  
    rel_A_features                          html  
    rel_json                                html  
    tnfs_data                               html  
** building package indices
** installing vignettes
** testing if installed package can be loaded
In R CMD INSTALL
install for x64
* installing *source* package 'drawProteins' ...
** testing if installed package can be loaded
* MD5 sums
packaged installation of 'drawProteins' as drawProteins_1.2.0.zip
* DONE (drawProteins)
In R CMD INSTALL
In R CMD INSTALL