| Back to Multiple platform build/check report for BioC 3.8 | 
 | 
This page was generated on 2019-04-16 11:59:37 -0400 (Tue, 16 Apr 2019).
| Package 412/1649 | Hostname | OS / Arch | INSTALL | BUILD | CHECK | BUILD BIN | ||||||
| diffloop 1.10.0 Caleb Lareau 
 | malbec1 | Linux (Ubuntu 16.04.6 LTS) / x86_64 | OK | OK | OK |  | ||||||
| merida1 | OS X 10.11.6 El Capitan / x86_64 | OK | OK | OK | [ OK ] |  | 
| Package: diffloop | 
| Version: 1.10.0 | 
| Command: rm -rf diffloop.buildbin-libdir && mkdir diffloop.buildbin-libdir && /Users/biocbuild/BBS/utils/build-universal.sh diffloop_1.10.0.tar.gz /Library/Frameworks/R.framework/Versions/Current/Resources/bin/R diffloop.buildbin-libdir | 
| StartedAt: 2019-04-16 03:57:30 -0400 (Tue, 16 Apr 2019) | 
| EndedAt: 2019-04-16 03:58:11 -0400 (Tue, 16 Apr 2019) | 
| EllapsedTime: 40.8 seconds | 
| RetCode: 0 | 
| Status: OK | 
| PackageFile: diffloop_1.10.0.tgz | 
| PackageFileSize: 1.504 MiB | 
############################################################################## ############################################################################## ### ### Running command: ### ### rm -rf diffloop.buildbin-libdir && mkdir diffloop.buildbin-libdir && /Users/biocbuild/BBS/utils/build-universal.sh diffloop_1.10.0.tar.gz /Library/Frameworks/R.framework/Versions/Current/Resources/bin/R diffloop.buildbin-libdir ### ############################################################################## ############################################################################## >>>>>>> >>>>>>> INSTALLATION WITH 'R CMD INSTALL --preclean --no-multiarch --library=diffloop.buildbin-libdir diffloop_1.10.0.tar.gz' >>>>>>> * installing *source* package ‘diffloop’ ... ** R ** inst ** byte-compile and prepare package for lazy loading ** help *** installing help indices ** building package indices ** installing vignettes ** testing if installed package can be loaded * DONE (diffloop)