| Back to Multiple platform build/check report for BioC 3.8 |
|
This page was generated on 2019-04-13 11:24:25 -0400 (Sat, 13 Apr 2019).
| Package 395/1649 | Hostname | OS / Arch | INSTALL | BUILD | CHECK | BUILD BIN | ||||||
| derfinderHelper 1.16.1 Leonardo Collado-Torres
| malbec1 | Linux (Ubuntu 16.04.6 LTS) / x86_64 | OK | OK | OK | |||||||
| tokay1 | Windows Server 2012 R2 Standard / x64 | OK | OK | OK | [ OK ] | |||||||
| merida1 | OS X 10.11.6 El Capitan / x86_64 | OK | OK | OK | OK |
| Package: derfinderHelper |
| Version: 1.16.1 |
| Command: rm -rf derfinderHelper.buildbin-libdir && mkdir derfinderHelper.buildbin-libdir && C:\Users\biocbuild\bbs-3.8-bioc\R\bin\R.exe CMD INSTALL --merge-multiarch --build --library=derfinderHelper.buildbin-libdir derfinderHelper_1.16.1.tar.gz |
| StartedAt: 2019-04-13 07:09:59 -0400 (Sat, 13 Apr 2019) |
| EndedAt: 2019-04-13 07:10:21 -0400 (Sat, 13 Apr 2019) |
| EllapsedTime: 22.2 seconds |
| RetCode: 0 |
| Status: OK |
| PackageFile: derfinderHelper_1.16.1.zip |
| PackageFileSize: 315.4 KiB |
##############################################################################
##############################################################################
###
### Running command:
###
### rm -rf derfinderHelper.buildbin-libdir && mkdir derfinderHelper.buildbin-libdir && C:\Users\biocbuild\bbs-3.8-bioc\R\bin\R.exe CMD INSTALL --merge-multiarch --build --library=derfinderHelper.buildbin-libdir derfinderHelper_1.16.1.tar.gz
###
##############################################################################
##############################################################################
install for i386
* installing *source* package 'derfinderHelper' ...
** R
** inst
** byte-compile and prepare package for lazy loading
** help
*** installing help indices
converting help for package 'derfinderHelper'
finding HTML links ... done
derfinderHelper-package html
fstats.apply html
** building package indices
** installing vignettes
** testing if installed package can be loaded
In R CMD INSTALL
install for x64
* installing *source* package 'derfinderHelper' ...
** testing if installed package can be loaded
* MD5 sums
packaged installation of 'derfinderHelper' as derfinderHelper_1.16.1.zip
* DONE (derfinderHelper)
In R CMD INSTALL
In R CMD INSTALL