| Back to Multiple platform build/check report for BioC 3.8 | 
 | 
This page was generated on 2019-04-16 11:51:52 -0400 (Tue, 16 Apr 2019).
| Package 365/1649 | Hostname | OS / Arch | INSTALL | BUILD | CHECK | BUILD BIN | ||||||
| dada2 1.10.1 Benjamin Callahan 
 | malbec1 | Linux (Ubuntu 16.04.6 LTS) / x86_64 | OK | [ OK ] | ERROR | |||||||
| merida1 | OS X 10.11.6 El Capitan / x86_64 | OK | OK | ERROR | OK | 
| Package: dada2 | 
| Version: 1.10.1 | 
| Command: /home/biocbuild/bbs-3.8-bioc/R/bin/R CMD build --keep-empty-dirs --no-resave-data dada2 | 
| StartedAt: 2019-04-15 20:30:09 -0400 (Mon, 15 Apr 2019) | 
| EndedAt: 2019-04-15 20:33:03 -0400 (Mon, 15 Apr 2019) | 
| EllapsedTime: 173.6 seconds | 
| RetCode: 0 | 
| Status: OK | 
| PackageFile: dada2_1.10.1.tar.gz | 
| PackageFileSize: 1.863 MiB | 
############################################################################## ############################################################################## ### ### Running command: ### ### /home/biocbuild/bbs-3.8-bioc/R/bin/R CMD build --keep-empty-dirs --no-resave-data dada2 ### ############################################################################## ############################################################################## * checking for file ‘dada2/DESCRIPTION’ ... OK * preparing ‘dada2’: * checking DESCRIPTION meta-information ... OK * cleaning src * installing the package to build vignettes * creating vignettes ... OK * cleaning src * checking for LF line-endings in source and make files and shell scripts * checking for empty or unneeded directories * looking to see if a ‘data/datalist’ file should be added * building ‘dada2_1.10.1.tar.gz’