csaw.Rcheck/tests_i386/testthat.Rout
R version 3.5.3 (2019-03-11) -- "Great Truth"
Copyright (C) 2019 The R Foundation for Statistical Computing
Platform: i386-w64-mingw32/i386 (32-bit)
R is free software and comes with ABSOLUTELY NO WARRANTY.
You are welcome to redistribute it under certain conditions.
Type 'license()' or 'licence()' for distribution details.
R is a collaborative project with many contributors.
Type 'contributors()' for more information and
'citation()' on how to cite R or R packages in publications.
Type 'demo()' for some demos, 'help()' for on-line help, or
'help.start()' for an HTML browser interface to help.
Type 'q()' to quit R.
> library(testthat)
> library(csaw)
Loading required package: GenomicRanges
Loading required package: stats4
Loading required package: BiocGenerics
Loading required package: parallel
Attaching package: 'BiocGenerics'
The following objects are masked from 'package:parallel':
clusterApply, clusterApplyLB, clusterCall, clusterEvalQ,
clusterExport, clusterMap, parApply, parCapply, parLapply,
parLapplyLB, parRapply, parSapply, parSapplyLB
The following objects are masked from 'package:stats':
IQR, mad, sd, var, xtabs
The following objects are masked from 'package:base':
Filter, Find, Map, Position, Reduce, anyDuplicated, append,
as.data.frame, basename, cbind, colMeans, colSums, colnames,
dirname, do.call, duplicated, eval, evalq, get, grep, grepl,
intersect, is.unsorted, lapply, lengths, mapply, match, mget,
order, paste, pmax, pmax.int, pmin, pmin.int, rank, rbind,
rowMeans, rowSums, rownames, sapply, setdiff, sort, table, tapply,
union, unique, unsplit, which, which.max, which.min
Loading required package: S4Vectors
Attaching package: 'S4Vectors'
The following object is masked from 'package:base':
expand.grid
Loading required package: IRanges
Attaching package: 'IRanges'
The following object is masked from 'package:grDevices':
windows
Loading required package: GenomeInfoDb
Loading required package: SummarizedExperiment
Loading required package: Biobase
Welcome to Bioconductor
Vignettes contain introductory material; view with
'browseVignettes()'. To cite Bioconductor, see
'citation("Biobase")', and for packages 'citation("pkgname")'.
Loading required package: DelayedArray
Loading required package: matrixStats
Attaching package: 'matrixStats'
The following objects are masked from 'package:Biobase':
anyMissing, rowMedians
Loading required package: BiocParallel
Attaching package: 'DelayedArray'
The following objects are masked from 'package:matrixStats':
colMaxs, colMins, colRanges, rowMaxs, rowMins, rowRanges
The following objects are masked from 'package:base':
aperm, apply
>
> test_check("csaw")
[samopen] SAM header is present: 3 sequences.
[samopen] SAM header is present: 3 sequences.
[samopen] SAM header is present: 3 sequences.
[samopen] SAM header is present: 3 sequences.
[samopen] SAM header is present: 3 sequences.
[samopen] SAM header is present: 3 sequences.
[samopen] SAM header is present: 3 sequences.
[samopen] SAM header is present: 3 sequences.
[samopen] SAM header is present: 3 sequences.
[samopen] SAM header is present: 3 sequences.
[samopen] SAM header is present: 3 sequences.
[samopen] SAM header is present: 3 sequences.
[samopen] SAM header is present: 3 sequences.
[samopen] SAM header is present: 3 sequences.
[samopen] SAM header is present: 3 sequences.
[samopen] SAM header is present: 3 sequences.
[samopen] SAM header is present: 3 sequences.
[samopen] SAM header is present: 3 sequences.
[samopen] SAM header is present: 3 sequences.
[samopen] SAM header is present: 3 sequences.
[samopen] SAM header is present: 3 sequences.
[samopen] SAM header is present: 3 sequences.
[samopen] SAM header is present: 3 sequences.
[samopen] SAM header is present: 3 sequences.
[samopen] SAM header is present: 3 sequences.
[samopen] SAM header is present: 3 sequences.
[samopen] SAM header is present: 1 sequences.
[samopen] SAM header is present: 2 sequences.
[samopen] SAM header is present: 1 sequences.
[samopen] SAM header is present: 2 sequences.
[samopen] SAM header is present: 1 sequences.
[samopen] SAM header is present: 2 sequences.
[samopen] SAM header is present: 1 sequences.
[samopen] SAM header is present: 2 sequences.
[samopen] SAM header is present: 1 sequences.
[samopen] SAM header is present: 2 sequences.
[samopen] SAM header is present: 1 sequences.
[samopen] SAM header is present: 2 sequences.
[samopen] SAM header is present: 1 sequences.
[samopen] SAM header is present: 2 sequences.
[samopen] SAM header is present: 1 sequences.
[samopen] SAM header is present: 2 sequences.
[samopen] SAM header is present: 1 sequences.
[samopen] SAM header is present: 2 sequences.
[samopen] SAM header is present: 2 sequences.
[samopen] SAM header is present: 2 sequences.
[samopen] SAM header is present: 2 sequences.
[samopen] SAM header is present: 2 sequences.
[samopen] SAM header is present: 3 sequences.
[samopen] SAM header is present: 1 sequences.
[samopen] SAM header is present: 2 sequences.
[samopen] SAM header is present: 2 sequences.
[samopen] SAM header is present: 3 sequences.
[samopen] SAM header is present: 3 sequences.
[samopen] SAM header is present: 3 sequences.
[samopen] SAM header is present: 3 sequences.
[samopen] SAM header is present: 3 sequences.
[samopen] SAM header is present: 3 sequences.
[samopen] SAM header is present: 3 sequences.
[samopen] SAM header is present: 3 sequences.
[samopen] SAM header is present: 3 sequences.
[samopen] SAM header is present: 3 sequences.
[samopen] SAM header is present: 3 sequences.
[samopen] SAM header is present: 3 sequences.
[samopen] SAM header is present: 2 sequences.
[samopen] SAM header is present: 2 sequences.
[samopen] SAM header is present: 2 sequences.
[samopen] SAM header is present: 2 sequences.
[samopen] SAM header is present: 2 sequences.
[samopen] SAM header is present: 2 sequences.
[samopen] SAM header is present: 2 sequences.
[samopen] SAM header is present: 2 sequences.
[samopen] SAM header is present: 3 sequences.
[samopen] SAM header is present: 3 sequences.
[samopen] SAM header is present: 3 sequences.
[samopen] SAM header is present: 3 sequences.
[samopen] SAM header is present: 3 sequences.
[samopen] SAM header is present: 3 sequences.
[samopen] SAM header is present: 3 sequences.
[samopen] SAM header is present: 3 sequences.
[samopen] SAM header is present: 3 sequences.
[samopen] SAM header is present: 3 sequences.
[samopen] SAM header is present: 3 sequences.
[samopen] SAM header is present: 3 sequences.
[samopen] SAM header is present: 3 sequences.
[samopen] SAM header is present: 3 sequences.
[samopen] SAM header is present: 3 sequences.
[samopen] SAM header is present: 3 sequences.
[samopen] SAM header is present: 3 sequences.
[samopen] SAM header is present: 3 sequences.
[samopen] SAM header is present: 3 sequences.
[samopen] SAM header is present: 3 sequences.
[samopen] SAM header is present: 3 sequences.
[samopen] SAM header is present: 3 sequences.
[samopen] SAM header is present: 3 sequences.
[samopen] SAM header is present: 3 sequences.
[samopen] SAM header is present: 3 sequences.
[samopen] SAM header is present: 3 sequences.
[samopen] SAM header is present: 2 sequences.
[samopen] SAM header is present: 2 sequences.
[samopen] SAM header is present: 2 sequences.
[samopen] SAM header is present: 2 sequences.
[samopen] SAM header is present: 2 sequences.
[samopen] SAM header is present: 2 sequences.
[samopen] SAM header is present: 2 sequences.
[samopen] SAM header is present: 2 sequences.
[samopen] SAM header is present: 2 sequences.
[samopen] SAM header is present: 2 sequences.
[samopen] SAM header is present: 2 sequences.
[samopen] SAM header is present: 2 sequences.
[samopen] SAM header is present: 2 sequences.
[samopen] SAM header is present: 2 sequences.
[samopen] SAM header is present: 2 sequences.
[samopen] SAM header is present: 2 sequences.
[samopen] SAM header is present: 2 sequences.
[samopen] SAM header is present: 2 sequences.
[samopen] SAM header is present: 2 sequences.
[samopen] SAM header is present: 2 sequences.
[samopen] SAM header is present: 2 sequences.
[samopen] SAM header is present: 2 sequences.
[samopen] SAM header is present: 2 sequences.
[samopen] SAM header is present: 2 sequences.
[samopen] SAM header is present: 2 sequences.
[samopen] SAM header is present: 2 sequences.
[samopen] SAM header is present: 2 sequences.
[samopen] SAM header is present: 2 sequences.
[samopen] SAM header is present: 2 sequences.
[samopen] SAM header is present: 2 sequences.
[samopen] SAM header is present: 3 sequences.
[samopen] SAM header is present: 2 sequences.
[samopen] SAM header is present: 2 sequences.
[samopen] SAM header is present: 2 sequences.
[W::bgzf_read_block] EOF marker is absent. The input is probably truncated
[samopen] SAM header is present: 2 sequences.
[samopen] SAM header is present: 2 sequences.
[W::bgzf_read_block] EOF marker is absent. The input is probably truncated
[samopen] SAM header is present: 2 sequences.
[samopen] SAM header is present: 2 sequences.
[W::bgzf_read_block] EOF marker is absent. The input is probably truncated
[samopen] SAM header is present: 2 sequences.
[samopen] SAM header is present: 2 sequences.
[W::bgzf_read_block] EOF marker is absent. The input is probably truncated
[samopen] SAM header is present: 2 sequences.
[samopen] SAM header is present: 2 sequences.
[W::bgzf_read_block] EOF marker is absent. The input is probably truncated
[samopen] SAM header is present: 2 sequences.
[samopen] SAM header is present: 2 sequences.
[W::bgzf_read_block] EOF marker is absent. The input is probably truncated
[samopen] SAM header is present: 2 sequences.
[samopen] SAM header is present: 2 sequences.
[W::bgzf_read_block] EOF marker is absent. The input is probably truncated
[samopen] SAM header is present: 2 sequences.
[samopen] SAM header is present: 2 sequences.
[W::bgzf_read_block] EOF marker is absent. The input is probably truncated
[samopen] SAM header is present: 2 sequences.
[samopen] SAM header is present: 2 sequences.
[W::bgzf_read_block] EOF marker is absent. The input is probably truncated
[samopen] SAM header is present: 2 sequences.
[samopen] SAM header is present: 2 sequences.
[W::bgzf_read_block] EOF marker is absent. The input is probably truncated
[samopen] SAM header is present: 2 sequences.
[samopen] SAM header is present: 2 sequences.
[W::bgzf_read_block] EOF marker is absent. The input is probably truncated
[samopen] SAM header is present: 2 sequences.
[samopen] SAM header is present: 2 sequences.
[samopen] SAM header is present: 2 sequences.
[samopen] SAM header is present: 2 sequences.
[samopen] SAM header is present: 2 sequences.
[samopen] SAM header is present: 2 sequences.
[samopen] SAM header is present: 2 sequences.
[samopen] SAM header is present: 2 sequences.
[samopen] SAM header is present: 2 sequences.
[samopen] SAM header is present: 2 sequences.
[samopen] SAM header is present: 2 sequences.
[samopen] SAM header is present: 2 sequences.
[samopen] SAM header is present: 2 sequences.
[samopen] SAM header is present: 2 sequences.
[samopen] SAM header is present: 2 sequences.
[samopen] SAM header is present: 2 sequences.
[samopen] SAM header is present: 2 sequences.
[samopen] SAM header is present: 2 sequences.
[samopen] SAM header is present: 2 sequences.
[samopen] SAM header is present: 2 sequences.
[samopen] SAM header is present: 2 sequences.
[samopen] SAM header is present: 2 sequences.
[samopen] SAM header is present: 2 sequences.
[samopen] SAM header is present: 2 sequences.
[samopen] SAM header is present: 2 sequences.
[samopen] SAM header is present: 2 sequences.
[samopen] SAM header is present: 2 sequences.
[samopen] SAM header is present: 2 sequences.
[samopen] SAM header is present: 2 sequences.
[samopen] SAM header is present: 2 sequences.
[samopen] SAM header is present: 2 sequences.
[samopen] SAM header is present: 2 sequences.
[samopen] SAM header is present: 2 sequences.
[samopen] SAM header is present: 2 sequences.
[samopen] SAM header is present: 2 sequences.
[samopen] SAM header is present: 2 sequences.
[samopen] SAM header is present: 2 sequences.
[samopen] SAM header is present: 2 sequences.
[samopen] SAM header is present: 2 sequences.
[samopen] SAM header is present: 2 sequences.
[samopen] SAM header is present: 2 sequences.
[samopen] SAM header is present: 2 sequences.
[samopen] SAM header is present: 2 sequences.
[samopen] SAM header is present: 2 sequences.
[samopen] SAM header is present: 2 sequences.
[samopen] SAM header is present: 2 sequences.
[samopen] SAM header is present: 2 sequences.
[samopen] SAM header is present: 2 sequences.
[samopen] SAM header is present: 2 sequences.
[samopen] SAM header is present: 2 sequences.
[samopen] SAM header is present: 2 sequences.
[samopen] SAM header is present: 2 sequences.
[samopen] SAM header is present: 2 sequences.
[samopen] SAM header is present: 2 sequences.
[samopen] SAM header is present: 2 sequences.
[samopen] SAM header is present: 2 sequences.
[samopen] SAM header is present: 2 sequences.
[samopen] SAM header is present: 2 sequences.
[samopen] SAM header is present: 2 sequences.
[samopen] SAM header is present: 2 sequences.
[samopen] SAM header is present: 2 sequences.
[samopen] SAM header is present: 2 sequences.
[samopen] SAM header is present: 2 sequences.
[samopen] SAM header is present: 2 sequences.
[samopen] SAM header is present: 2 sequences.
[samopen] SAM header is present: 2 sequences.
[samopen] SAM header is present: 2 sequences.
[samopen] SAM header is present: 2 sequences.
[samopen] SAM header is present: 2 sequences.
[samopen] SAM header is present: 2 sequences.
[samopen] SAM header is present: 2 sequences.
[samopen] SAM header is present: 2 sequences.
[samopen] SAM header is present: 2 sequences.
[samopen] SAM header is present: 2 sequences.
[samopen] SAM header is present: 2 sequences.
[samopen] SAM header is present: 2 sequences.
[samopen] SAM header is present: 2 sequences.
[samopen] SAM header is present: 2 sequences.
[samopen] SAM header is present: 2 sequences.
[samopen] SAM header is present: 2 sequences.
[samopen] SAM header is present: 2 sequences.
[samopen] SAM header is present: 2 sequences.
[samopen] SAM header is present: 2 sequences.
[samopen] SAM header is present: 2 sequences.
[samopen] SAM header is present: 2 sequences.
[samopen] SAM header is present: 2 sequences.
[samopen] SAM header is present: 2 sequences.
[samopen] SAM header is present: 2 sequences.
[samopen] SAM header is present: 2 sequences.
[samopen] SAM header is present: 2 sequences.
[samopen] SAM header is present: 2 sequences.
[samopen] SAM header is present: 2 sequences.
[samopen] SAM header is present: 2 sequences.
[samopen] SAM header is present: 2 sequences.
[samopen] SAM header is present: 2 sequences.
[samopen] SAM header is present: 2 sequences.
[samopen] SAM header is present: 2 sequences.
[samopen]== testthat results ===========================================================
OK: 2687 SKIPPED: 0 FAILED: 0
>
>
> proc.time()
user system elapsed
211.32 3.79 215.87
SAM header is present: 2 sequences.
[samopen] SAM header is present: 2 sequences.
[samopen] SAM header is present: 2 sequences.
[samopen] SAM header is present: 2 sequences.
[samopen] SAM header is present: 2 sequences.
[samopen] SAM header is present: 2 sequences.
[samopen] SAM header is present: 2 sequences.
[samopen] SAM header is present: 2 sequences.
|
csaw.Rcheck/tests_x64/testthat.Rout
R version 3.5.3 (2019-03-11) -- "Great Truth"
Copyright (C) 2019 The R Foundation for Statistical Computing
Platform: x86_64-w64-mingw32/x64 (64-bit)
R is free software and comes with ABSOLUTELY NO WARRANTY.
You are welcome to redistribute it under certain conditions.
Type 'license()' or 'licence()' for distribution details.
R is a collaborative project with many contributors.
Type 'contributors()' for more information and
'citation()' on how to cite R or R packages in publications.
Type 'demo()' for some demos, 'help()' for on-line help, or
'help.start()' for an HTML browser interface to help.
Type 'q()' to quit R.
> library(testthat)
> library(csaw)
Loading required package: GenomicRanges
Loading required package: stats4
Loading required package: BiocGenerics
Loading required package: parallel
Attaching package: 'BiocGenerics'
The following objects are masked from 'package:parallel':
clusterApply, clusterApplyLB, clusterCall, clusterEvalQ,
clusterExport, clusterMap, parApply, parCapply, parLapply,
parLapplyLB, parRapply, parSapply, parSapplyLB
The following objects are masked from 'package:stats':
IQR, mad, sd, var, xtabs
The following objects are masked from 'package:base':
Filter, Find, Map, Position, Reduce, anyDuplicated, append,
as.data.frame, basename, cbind, colMeans, colSums, colnames,
dirname, do.call, duplicated, eval, evalq, get, grep, grepl,
intersect, is.unsorted, lapply, lengths, mapply, match, mget,
order, paste, pmax, pmax.int, pmin, pmin.int, rank, rbind,
rowMeans, rowSums, rownames, sapply, setdiff, sort, table, tapply,
union, unique, unsplit, which, which.max, which.min
Loading required package: S4Vectors
Attaching package: 'S4Vectors'
The following object is masked from 'package:base':
expand.grid
Loading required package: IRanges
Attaching package: 'IRanges'
The following object is masked from 'package:grDevices':
windows
Loading required package: GenomeInfoDb
Loading required package: SummarizedExperiment
Loading required package: Biobase
Welcome to Bioconductor
Vignettes contain introductory material; view with
'browseVignettes()'. To cite Bioconductor, see
'citation("Biobase")', and for packages 'citation("pkgname")'.
Loading required package: DelayedArray
Loading required package: matrixStats
Attaching package: 'matrixStats'
The following objects are masked from 'package:Biobase':
anyMissing, rowMedians
Loading required package: BiocParallel
Attaching package: 'DelayedArray'
The following objects are masked from 'package:matrixStats':
colMaxs, colMins, colRanges, rowMaxs, rowMins, rowRanges
The following objects are masked from 'package:base':
aperm, apply
>
> test_check("csaw")
[samopen] SAM header is present: 3 sequences.
[samopen] SAM header is present: 3 sequences.
[samopen] SAM header is present: 3 sequences.
[samopen] SAM header is present: 3 sequences.
[samopen] SAM header is present: 3 sequences.
[samopen] SAM header is present: 3 sequences.
[samopen] SAM header is present: 3 sequences.
[samopen] SAM header is present: 3 sequences.
[samopen] SAM header is present: 3 sequences.
[samopen] SAM header is present: 3 sequences.
[samopen] SAM header is present: 3 sequences.
[samopen] SAM header is present: 3 sequences.
[samopen] SAM header is present: 3 sequences.
[samopen] SAM header is present: 3 sequences.
[samopen] SAM header is present: 3 sequences.
[samopen] SAM header is present: 3 sequences.
[samopen] SAM header is present: 3 sequences.
[samopen] SAM header is present: 3 sequences.
[samopen] SAM header is present: 3 sequences.
[samopen] SAM header is present: 3 sequences.
[samopen] SAM header is present: 3 sequences.
[samopen] SAM header is present: 3 sequences.
[samopen] SAM header is present: 3 sequences.
[samopen] SAM header is present: 3 sequences.
[samopen] SAM header is present: 3 sequences.
[samopen] SAM header is present: 3 sequences.
[samopen] SAM header is present: 1 sequences.
[samopen] SAM header is present: 2 sequences.
[samopen] SAM header is present: 1 sequences.
[samopen] SAM header is present: 2 sequences.
[samopen] SAM header is present: 1 sequences.
[samopen] SAM header is present: 2 sequences.
[samopen] SAM header is present: 1 sequences.
[samopen] SAM header is present: 2 sequences.
[samopen] SAM header is present: 1 sequences.
[samopen] SAM header is present: 2 sequences.
[samopen] SAM header is present: 1 sequences.
[samopen] SAM header is present: 2 sequences.
[samopen] SAM header is present: 1 sequences.
[samopen] SAM header is present: 2 sequences.
[samopen] SAM header is present: 1 sequences.
[samopen] SAM header is present: 2 sequences.
[samopen] SAM header is present: 1 sequences.
[samopen] SAM header is present: 2 sequences.
[samopen] SAM header is present: 2 sequences.
[samopen] SAM header is present: 2 sequences.
[samopen] SAM header is present: 2 sequences.
[samopen] SAM header is present: 2 sequences.
[samopen] SAM header is present: 3 sequences.
[samopen] SAM header is present: 1 sequences.
[samopen] SAM header is present: 2 sequences.
[samopen] SAM header is present: 2 sequences.
[samopen] SAM header is present: 3 sequences.
[samopen] SAM header is present: 3 sequences.
[samopen] SAM header is present: 3 sequences.
[samopen] SAM header is present: 3 sequences.
[samopen] SAM header is present: 3 sequences.
[samopen] SAM header is present: 3 sequences.
[samopen] SAM header is present: 3 sequences.
[samopen] SAM header is present: 3 sequences.
[samopen] SAM header is present: 3 sequences.
[samopen] SAM header is present: 3 sequences.
[samopen] SAM header is present: 3 sequences.
[samopen] SAM header is present: 3 sequences.
[samopen] SAM header is present: 2 sequences.
[samopen] SAM header is present: 2 sequences.
[samopen] SAM header is present: 2 sequences.
[samopen] SAM header is present: 2 sequences.
[samopen] SAM header is present: 2 sequences.
[samopen] SAM header is present: 2 sequences.
[samopen] SAM header is present: 2 sequences.
[samopen] SAM header is present: 2 sequences.
[samopen] SAM header is present: 3 sequences.
[samopen] SAM header is present: 3 sequences.
[samopen] SAM header is present: 3 sequences.
[samopen] SAM header is present: 3 sequences.
[samopen] SAM header is present: 3 sequences.
[samopen] SAM header is present: 3 sequences.
[samopen] SAM header is present: 3 sequences.
[samopen] SAM header is present: 3 sequences.
[samopen] SAM header is present: 3 sequences.
[samopen] SAM header is present: 3 sequences.
[samopen] SAM header is present: 3 sequences.
[samopen] SAM header is present: 3 sequences.
[samopen] SAM header is present: 3 sequences.
[samopen] SAM header is present: 3 sequences.
[samopen] SAM header is present: 3 sequences.
[samopen] SAM header is present: 3 sequences.
[samopen] SAM header is present: 3 sequences.
[samopen] SAM header is present: 3 sequences.
[samopen] SAM header is present: 3 sequences.
[samopen] SAM header is present: 3 sequences.
[samopen] SAM header is present: 3 sequences.
[samopen] SAM header is present: 3 sequences.
[samopen] SAM header is present: 3 sequences.
[samopen] SAM header is present: 3 sequences.
[samopen] SAM header is present: 3 sequences.
[samopen] SAM header is present: 3 sequences.
[samopen] SAM header is present: 2 sequences.
[samopen] SAM header is present: 2 sequences.
[samopen] SAM header is present: 2 sequences.
[samopen] SAM header is present: 2 sequences.
[samopen] SAM header is present: 2 sequences.
[samopen] SAM header is present: 2 sequences.
[samopen] SAM header is present: 2 sequences.
[samopen] SAM header is present: 2 sequences.
[samopen] SAM header is present: 2 sequences.
[samopen] SAM header is present: 2 sequences.
[samopen] SAM header is present: 2 sequences.
[samopen] SAM header is present: 2 sequences.
[samopen] SAM header is present: 2 sequences.
[samopen] SAM header is present: 2 sequences.
[samopen] SAM header is present: 2 sequences.
[samopen] SAM header is present: 2 sequences.
[samopen] SAM header is present: 2 sequences.
[samopen] SAM header is present: 2 sequences.
[samopen] SAM header is present: 2 sequences.
[samopen] SAM header is present: 2 sequences.
[samopen] SAM header is present: 2 sequences.
[samopen] SAM header is present: 2 sequences.
[samopen] SAM header is present: 2 sequences.
[samopen] SAM header is present: 2 sequences.
[samopen] SAM header is present: 2 sequences.
[samopen] SAM header is present: 2 sequences.
[samopen] SAM header is present: 2 sequences.
[samopen] SAM header is present: 2 sequences.
[samopen] SAM header is present: 2 sequences.
[samopen] SAM header is present: 2 sequences.
[samopen] SAM header is present: 3 sequences.
[samopen] SAM header is present: 2 sequences.
[samopen] SAM header is present: 2 sequences.
[samopen] SAM header is present: 2 sequences.
[W::bgzf_read_block] EOF marker is absent. The input is probably truncated
[samopen] SAM header is present: 2 sequences.
[samopen] SAM header is present: 2 sequences.
[W::bgzf_read_block] EOF marker is absent. The input is probably truncated
[samopen] SAM header is present: 2 sequences.
[samopen] SAM header is present: 2 sequences.
[W::bgzf_read_block] EOF marker is absent. The input is probably truncated
[samopen] SAM header is present: 2 sequences.
[samopen] SAM header is present: 2 sequences.
[W::bgzf_read_block] EOF marker is absent. The input is probably truncated
[samopen] SAM header is present: 2 sequences.
[samopen] SAM header is present: 2 sequences.
[W::bgzf_read_block] EOF marker is absent. The input is probably truncated
[samopen] SAM header is present: 2 sequences.
[samopen] SAM header is present: 2 sequences.
[W::bgzf_read_block] EOF marker is absent. The input is probably truncated
[samopen] SAM header is present: 2 sequences.
[samopen] SAM header is present: 2 sequences.
[W::bgzf_read_block] EOF marker is absent. The input is probably truncated
[samopen] SAM header is present: 2 sequences.
[samopen] SAM header is present: 2 sequences.
[W::bgzf_read_block] EOF marker is absent. The input is probably truncated
[samopen] SAM header is present: 2 sequences.
[samopen] SAM header is present: 2 sequences.
[W::bgzf_read_block] EOF marker is absent. The input is probably truncated
[samopen] SAM header is present: 2 sequences.
[samopen] SAM header is present: 2 sequences.
[W::bgzf_read_block] EOF marker is absent. The input is probably truncated
[samopen] SAM header is present: 2 sequences.
[samopen] SAM header is present: 2 sequences.
[W::bgzf_read_block] EOF marker is absent. The input is probably truncated
[samopen] SAM header is present: 2 sequences.
[samopen] SAM header is present: 2 sequences.
[samopen] SAM header is present: 2 sequences.
[samopen] SAM header is present: 2 sequences.
[samopen] SAM header is present: 2 sequences.
[samopen] SAM header is present: 2 sequences.
[samopen] SAM header is present: 2 sequences.
[samopen] SAM header is present: 2 sequences.
[samopen] SAM header is present: 2 sequences.
[samopen] SAM header is present: 2 sequences.
[samopen] SAM header is present: 2 sequences.
[samopen] SAM header is present: 2 sequences.
[samopen] SAM header is present: 2 sequences.
[samopen] SAM header is present: 2 sequences.
[samopen] SAM header is present: 2 sequences.
[samopen] SAM header is present: 2 sequences.
[samopen] SAM header is present: 2 sequences.
[samopen] SAM header is present: 2 sequences.
[samopen] SAM header is present: 2 sequences.
[samopen] SAM header is present: 2 sequences.
[samopen] SAM header is present: 2 sequences.
[samopen] SAM header is present: 2 sequences.
[samopen] SAM header is present: 2 sequences.
[samopen] SAM header is present: 2 sequences.
[samopen] SAM header is present: 2 sequences.
[samopen] SAM header is present: 2 sequences.
[samopen] SAM header is present: 2 sequences.
[samopen] SAM header is present: 2 sequences.
[samopen] SAM header is present: 2 sequences.
[samopen] SAM header is present: 2 sequences.
[samopen] SAM header is present: 2 sequences.
[samopen] SAM header is present: 2 sequences.
[samopen] SAM header is present: 2 sequences.
[samopen] SAM header is present: 2 sequences.
[samopen] SAM header is present: 2 sequences.
[samopen] SAM header is present: 2 sequences.
[samopen] SAM header is present: 2 sequences.
[samopen] SAM header is present: 2 sequences.
[samopen] SAM header is present: 2 sequences.
[samopen] SAM header is present: 2 sequences.
[samopen] SAM header is present: 2 sequences.
[samopen] SAM header is present: 2 sequences.
[samopen] SAM header is present: 2 sequences.
[samopen] SAM header is present: 2 sequences.
[samopen] SAM header is present: 2 sequences.
[samopen] SAM header is present: 2 sequences.
[samopen] SAM header is present: 2 sequences.
[samopen] SAM header is present: 2 sequences.
[samopen] SAM header is present: 2 sequences.
[samopen] SAM header is present: 2 sequences.
[samopen] SAM header is present: 2 sequences.
[samopen] SAM header is present: 2 sequences.
[samopen] SAM header is present: 2 sequences.
[samopen] SAM header is present: 2 sequences.
[samopen] SAM header is present: 2 sequences.
[samopen] SAM header is present: 2 sequences.
[samopen] SAM header is present: 2 sequences.
[samopen] SAM header is present: 2 sequences.
[samopen] SAM header is present: 2 sequences.
[samopen] SAM header is present: 2 sequences.
[samopen] SAM header is present: 2 sequences.
[samopen] SAM header is present: 2 sequences.
[samopen] SAM header is present: 2 sequences.
[samopen] SAM header is present: 2 sequences.
[samopen] SAM header is present: 2 sequences.
[samopen] SAM header is present: 2 sequences.
[samopen] SAM header is present: 2 sequences.
[samopen] SAM header is present: 2 sequences.
[samopen] SAM header is present: 2 sequences.
[samopen] SAM header is present: 2 sequences.
[samopen] SAM header is present: 2 sequences.
[samopen] SAM header is present: 2 sequences.
[samopen] SAM header is present: 2 sequences.
[samopen] SAM header is present: 2 sequences.
[samopen] SAM header is present: 2 sequences.
[samopen] SAM header is present: 2 sequences.
[samopen] SAM header is present: 2 sequences.
[samopen] SAM header is present: 2 sequences.
[samopen] SAM header is present: 2 sequences.
[samopen] SAM header is present: 2 sequences.
[samopen] SAM header is present: 2 sequences.
[samopen] SAM header is present: 2 sequences.
[samopen] SAM header is present: 2 sequences.
[samopen] SAM header is present: 2 sequences.
[samopen] SAM header is present: 2 sequences.
[samopen] SAM header is present: 2 sequences.
[samopen] SAM header is present: 2 sequences.
[samopen] SAM header is present: 2 sequences.
[samopen] SAM header is present: 2 sequences.
[samopen] SAM header is present: 2 sequences.
[samopen] SAM header is present: 2 sequences.
[samopen] SAM header is present: 2 sequences.
[samopen] SAM header is present: 2 sequences.
[samopen] SAM header is present: 2 sequences.
[samopen] SAM header is present: 2 sequences.
[samopen] SAM header is present: 2 sequences.
[samopen] SAM header is present: 2 sequences.
[samopen]== testthat results ===========================================================
OK: 2687 SKIPPED: 0 FAILED: 0
>
>
> proc.time()
user system elapsed
216.43 2.57 219.31
SAM header is present: 2 sequences.
[samopen] SAM header is present: 2 sequences.
[samopen] SAM header is present: 2 sequences.
[samopen] SAM header is present: 2 sequences.
[samopen] SAM header is present: 2 sequences.
[samopen] SAM header is present: 2 sequences.
[samopen] SAM header is present: 2 sequences.
[samopen] SAM header is present: 2 sequences.
|