| Back to Multiple platform build/check report for BioC 3.8 |
|
This page was generated on 2019-04-16 11:59:06 -0400 (Tue, 16 Apr 2019).
| Package 321/1649 | Hostname | OS / Arch | INSTALL | BUILD | CHECK | BUILD BIN | ||||||
| consensusSeekeR 1.10.0 Astrid Deschenes
| malbec1 | Linux (Ubuntu 16.04.6 LTS) / x86_64 | OK | OK | OK | |||||||
| merida1 | OS X 10.11.6 El Capitan / x86_64 | OK | OK | OK | [ OK ] |
| Package: consensusSeekeR |
| Version: 1.10.0 |
| Command: rm -rf consensusSeekeR.buildbin-libdir && mkdir consensusSeekeR.buildbin-libdir && /Users/biocbuild/BBS/utils/build-universal.sh consensusSeekeR_1.10.0.tar.gz /Library/Frameworks/R.framework/Versions/Current/Resources/bin/R consensusSeekeR.buildbin-libdir |
| StartedAt: 2019-04-16 03:53:15 -0400 (Tue, 16 Apr 2019) |
| EndedAt: 2019-04-16 03:54:00 -0400 (Tue, 16 Apr 2019) |
| EllapsedTime: 45.3 seconds |
| RetCode: 0 |
| Status: OK |
| PackageFile: consensusSeekeR_1.10.0.tgz |
| PackageFileSize: 611.2 KiB |
############################################################################## ############################################################################## ### ### Running command: ### ### rm -rf consensusSeekeR.buildbin-libdir && mkdir consensusSeekeR.buildbin-libdir && /Users/biocbuild/BBS/utils/build-universal.sh consensusSeekeR_1.10.0.tar.gz /Library/Frameworks/R.framework/Versions/Current/Resources/bin/R consensusSeekeR.buildbin-libdir ### ############################################################################## ############################################################################## >>>>>>> >>>>>>> INSTALLATION WITH 'R CMD INSTALL --preclean --no-multiarch --library=consensusSeekeR.buildbin-libdir consensusSeekeR_1.10.0.tar.gz' >>>>>>> * installing *source* package ‘consensusSeekeR’ ... ** R ** data ** inst ** byte-compile and prepare package for lazy loading ** help *** installing help indices ** building package indices ** installing vignettes ** testing if installed package can be loaded * DONE (consensusSeekeR)