| Back to Multiple platform build/check report for BioC 3.8 | 
 | 
This page was generated on 2019-04-13 11:29:33 -0400 (Sat, 13 Apr 2019).
| Package 317/1649 | Hostname | OS / Arch | INSTALL | BUILD | CHECK | BUILD BIN | ||||||
| consensus 1.0.3 Tim Peters 
 | malbec1 | Linux (Ubuntu 16.04.6 LTS) / x86_64 | OK | OK | OK |  | ||||||
| tokay1 | Windows Server 2012 R2 Standard / x64 | OK | [ OK ] | OK | OK |  | ||||||
| merida1 | OS X 10.11.6 El Capitan / x86_64 | OK | OK | OK | OK |  | 
| Package: consensus | 
| Version: 1.0.3 | 
| Command: chmod a+r consensus -R && C:\Users\biocbuild\bbs-3.8-bioc\R\bin\R.exe CMD build --keep-empty-dirs --no-resave-data consensus | 
| StartedAt: 2019-04-12 23:56:40 -0400 (Fri, 12 Apr 2019) | 
| EndedAt: 2019-04-12 23:56:56 -0400 (Fri, 12 Apr 2019) | 
| EllapsedTime: 16.0 seconds | 
| RetCode: 0 | 
| Status: OK | 
| PackageFile: consensus_1.0.3.tar.gz | 
| PackageFileSize: 955.1 KiB | 
############################################################################## ############################################################################## ### ### Running command: ### ### chmod a+r consensus -R && C:\Users\biocbuild\bbs-3.8-bioc\R\bin\R.exe CMD build --keep-empty-dirs --no-resave-data consensus ### ############################################################################## ############################################################################## * checking for file 'consensus/DESCRIPTION' ... OK * preparing 'consensus': * checking DESCRIPTION meta-information ... OK * installing the package to build vignettes * creating vignettes ... OK * checking for LF line-endings in source and make files and shell scripts * checking for empty or unneeded directories * looking to see if a 'data/datalist' file should be added * building 'consensus_1.0.3.tar.gz'