| Back to Multiple platform build/check report for BioC 3.8 | 
 | 
This page was generated on 2019-04-16 11:53:39 -0400 (Tue, 16 Apr 2019).
| Package 315/1649 | Hostname | OS / Arch | INSTALL | BUILD | CHECK | BUILD BIN | ||||||
| condcomp 1.0.1 Diogo P. P. Branco 
 | malbec1 | Linux (Ubuntu 16.04.6 LTS) / x86_64 | OK | [ OK ] | OK |  | ||||||
| merida1 | OS X 10.11.6 El Capitan / x86_64 | OK | ERROR | skipped | skipped | 
| Package: condcomp | 
| Version: 1.0.1 | 
| Command: /home/biocbuild/bbs-3.8-bioc/R/bin/R CMD build --keep-empty-dirs --no-resave-data condcomp | 
| StartedAt: 2019-04-15 21:48:47 -0400 (Mon, 15 Apr 2019) | 
| EndedAt: 2019-04-15 21:49:21 -0400 (Mon, 15 Apr 2019) | 
| EllapsedTime: 34.0 seconds | 
| RetCode: 0 | 
| Status: OK | 
| PackageFile: condcomp_1.0.1.tar.gz | 
| PackageFileSize: 387.7 KiB | 
############################################################################## ############################################################################## ### ### Running command: ### ### /home/biocbuild/bbs-3.8-bioc/R/bin/R CMD build --keep-empty-dirs --no-resave-data condcomp ### ############################################################################## ############################################################################## * checking for file ‘condcomp/DESCRIPTION’ ... OK * preparing ‘condcomp’: * checking DESCRIPTION meta-information ... OK * installing the package to build vignettes * creating vignettes ... OK * checking for LF line-endings in source and make files and shell scripts * checking for empty or unneeded directories * building ‘condcomp_1.0.1.tar.gz’