| Back to Multiple platform build/check report for BioC 3.8 |
|
This page was generated on 2019-04-16 11:57:36 -0400 (Tue, 16 Apr 2019).
| Package 311/1649 | Hostname | OS / Arch | INSTALL | BUILD | CHECK | BUILD BIN | ||||||
| compcodeR 1.18.1 Charlotte Soneson
| malbec1 | Linux (Ubuntu 16.04.6 LTS) / x86_64 | OK | OK | OK | |||||||
| merida1 | OS X 10.11.6 El Capitan / x86_64 | OK | OK | OK | [ OK ] |
| Package: compcodeR |
| Version: 1.18.1 |
| Command: rm -rf compcodeR.buildbin-libdir && mkdir compcodeR.buildbin-libdir && /Users/biocbuild/BBS/utils/build-universal.sh compcodeR_1.18.1.tar.gz /Library/Frameworks/R.framework/Versions/Current/Resources/bin/R compcodeR.buildbin-libdir |
| StartedAt: 2019-04-16 03:52:50 -0400 (Tue, 16 Apr 2019) |
| EndedAt: 2019-04-16 03:53:35 -0400 (Tue, 16 Apr 2019) |
| EllapsedTime: 44.7 seconds |
| RetCode: 0 |
| Status: OK |
| PackageFile: compcodeR_1.18.1.tgz |
| PackageFileSize: 1.541 MiB |
############################################################################## ############################################################################## ### ### Running command: ### ### rm -rf compcodeR.buildbin-libdir && mkdir compcodeR.buildbin-libdir && /Users/biocbuild/BBS/utils/build-universal.sh compcodeR_1.18.1.tar.gz /Library/Frameworks/R.framework/Versions/Current/Resources/bin/R compcodeR.buildbin-libdir ### ############################################################################## ############################################################################## >>>>>>> >>>>>>> INSTALLATION WITH 'R CMD INSTALL --preclean --no-multiarch --library=compcodeR.buildbin-libdir compcodeR_1.18.1.tar.gz' >>>>>>> * installing *source* package ‘compcodeR’ ... ** R ** inst ** byte-compile and prepare package for lazy loading ** help *** installing help indices ** building package indices ** installing vignettes ** testing if installed package can be loaded * DONE (compcodeR)