| Back to Multiple platform build/check report for BioC 3.8 | 
 | 
This page was generated on 2019-04-13 11:29:55 -0400 (Sat, 13 Apr 2019).
| Package 309/1649 | Hostname | OS / Arch | INSTALL | BUILD | CHECK | BUILD BIN | ||||||
| compartmap 1.0.3 Benjamin Johnson 
 | malbec1 | Linux (Ubuntu 16.04.6 LTS) / x86_64 | OK | OK | WARNINGS |  | ||||||
| tokay1 | Windows Server 2012 R2 Standard / x64 | OK | [ OK ] | WARNINGS | OK |  | ||||||
| merida1 | OS X 10.11.6 El Capitan / x86_64 | OK | OK | WARNINGS | OK |  | 
| Package: compartmap | 
| Version: 1.0.3 | 
| Command: chmod a+r compartmap -R && C:\Users\biocbuild\bbs-3.8-bioc\R\bin\R.exe CMD build --keep-empty-dirs --no-resave-data compartmap | 
| StartedAt: 2019-04-13 00:04:16 -0400 (Sat, 13 Apr 2019) | 
| EndedAt: 2019-04-13 00:05:28 -0400 (Sat, 13 Apr 2019) | 
| EllapsedTime: 72.6 seconds | 
| RetCode: 0 | 
| Status: OK | 
| PackageFile: compartmap_1.0.3.tar.gz | 
| PackageFileSize: 2.955 MiB | 
############################################################################## ############################################################################## ### ### Running command: ### ### chmod a+r compartmap -R && C:\Users\biocbuild\bbs-3.8-bioc\R\bin\R.exe CMD build --keep-empty-dirs --no-resave-data compartmap ### ############################################################################## ############################################################################## * checking for file 'compartmap/DESCRIPTION' ... OK * preparing 'compartmap': * checking DESCRIPTION meta-information ... OK * installing the package to build vignettes * creating vignettes ... OK * checking for LF line-endings in source and make files and shell scripts * checking for empty or unneeded directories * looking to see if a 'data/datalist' file should be added * building 'compartmap_1.0.3.tar.gz'