| Back to Multiple platform build/check report for BioC 3.8 | 
 | 
This page was generated on 2019-04-16 11:58:32 -0400 (Tue, 16 Apr 2019).
| Package 305/1649 | Hostname | OS / Arch | INSTALL | BUILD | CHECK | BUILD BIN | ||||||
| cogena 1.16.0 Zhilong Jia 
 | malbec1 | Linux (Ubuntu 16.04.6 LTS) / x86_64 | OK | OK | WARNINGS |  | ||||||
| merida1 | OS X 10.11.6 El Capitan / x86_64 | OK | OK | WARNINGS | [ OK ] |  | 
| Package: cogena | 
| Version: 1.16.0 | 
| Command: rm -rf cogena.buildbin-libdir && mkdir cogena.buildbin-libdir && /Users/biocbuild/BBS/utils/build-universal.sh cogena_1.16.0.tar.gz /Library/Frameworks/R.framework/Versions/Current/Resources/bin/R cogena.buildbin-libdir | 
| StartedAt: 2019-04-16 03:52:34 -0400 (Tue, 16 Apr 2019) | 
| EndedAt: 2019-04-16 03:53:15 -0400 (Tue, 16 Apr 2019) | 
| EllapsedTime: 40.2 seconds | 
| RetCode: 0 | 
| Status: OK | 
| PackageFile: cogena_1.16.0.tgz | 
| PackageFileSize: 5.937 MiB | 
############################################################################## ############################################################################## ### ### Running command: ### ### rm -rf cogena.buildbin-libdir && mkdir cogena.buildbin-libdir && /Users/biocbuild/BBS/utils/build-universal.sh cogena_1.16.0.tar.gz /Library/Frameworks/R.framework/Versions/Current/Resources/bin/R cogena.buildbin-libdir ### ############################################################################## ############################################################################## >>>>>>> >>>>>>> INSTALLATION WITH 'R CMD INSTALL --preclean --no-multiarch --library=cogena.buildbin-libdir cogena_1.16.0.tar.gz' >>>>>>> * installing *source* package ‘cogena’ ... ** R ** data *** moving datasets to lazyload DB ** inst ** byte-compile and prepare package for lazy loading Warning: replacing previous import ‘class::somgrid’ by ‘kohonen::somgrid’ when loading ‘cogena’ ** help *** installing help indices ** building package indices ** installing vignettes ** testing if installed package can be loaded Warning: replacing previous import ‘class::somgrid’ by ‘kohonen::somgrid’ when loading ‘cogena’ * DONE (cogena)