| Back to Multiple platform build/check report for BioC 3.8 | 
 | 
This page was generated on 2019-04-16 11:52:30 -0400 (Tue, 16 Apr 2019).
| Package 280/1649 | Hostname | OS / Arch | INSTALL | BUILD | CHECK | BUILD BIN | ||||||
| clusterSeq 1.6.0 Thomas J. Hardcastle 
 | malbec1 | Linux (Ubuntu 16.04.6 LTS) / x86_64 | OK | OK | [ OK ] |  | ||||||
| merida1 | OS X 10.11.6 El Capitan / x86_64 | OK | OK | OK | OK |  | 
| Package: clusterSeq | 
| Version: 1.6.0 | 
| Command: /home/biocbuild/bbs-3.8-bioc/R/bin/R CMD check --install=check:clusterSeq.install-out.txt --library=/home/biocbuild/bbs-3.8-bioc/R/library --no-vignettes --timings clusterSeq_1.6.0.tar.gz | 
| StartedAt: 2019-04-15 22:58:46 -0400 (Mon, 15 Apr 2019) | 
| EndedAt: 2019-04-15 23:03:23 -0400 (Mon, 15 Apr 2019) | 
| EllapsedTime: 277.6 seconds | 
| RetCode: 0 | 
| Status: OK | 
| CheckDir: clusterSeq.Rcheck | 
| Warnings: 0 | 
##############################################################################
##############################################################################
###
### Running command:
###
###   /home/biocbuild/bbs-3.8-bioc/R/bin/R CMD check --install=check:clusterSeq.install-out.txt --library=/home/biocbuild/bbs-3.8-bioc/R/library --no-vignettes --timings clusterSeq_1.6.0.tar.gz
###
##############################################################################
##############################################################################
* using log directory ‘/home/biocbuild/bbs-3.8-bioc/meat/clusterSeq.Rcheck’
* using R version 3.5.3 (2019-03-11)
* using platform: x86_64-pc-linux-gnu (64-bit)
* using session charset: UTF-8
* using option ‘--no-vignettes’
* checking for file ‘clusterSeq/DESCRIPTION’ ... OK
* checking extension type ... Package
* this is package ‘clusterSeq’ version ‘1.6.0’
* checking package namespace information ... OK
* checking package dependencies ... OK
* checking if this is a source package ... OK
* checking if there is a namespace ... OK
* checking for hidden files and directories ... OK
* checking for portable file names ... OK
* checking for sufficient/correct file permissions ... OK
* checking whether package ‘clusterSeq’ can be installed ... OK
* checking installed package size ... OK
* checking package directory ... OK
* checking ‘build’ directory ... OK
* checking DESCRIPTION meta-information ... OK
* checking top-level files ... OK
* checking for left-over files ... OK
* checking index information ... OK
* checking package subdirectories ... OK
* checking R files for non-ASCII characters ... OK
* checking R files for syntax errors ... OK
* checking whether the package can be loaded ... OK
* checking whether the package can be loaded with stated dependencies ... OK
* checking whether the package can be unloaded cleanly ... OK
* checking whether the namespace can be loaded with stated dependencies ... OK
* checking whether the namespace can be unloaded cleanly ... OK
* checking dependencies in R code ... OK
* checking S3 generic/method consistency ... OK
* checking replacement functions ... OK
* checking foreign function calls ... OK
* checking R code for possible problems ... OK
* checking Rd files ... OK
* checking Rd metadata ... OK
* checking Rd cross-references ... OK
* checking for missing documentation entries ... OK
* checking for code/documentation mismatches ... OK
* checking Rd \usage sections ... OK
* checking Rd contents ... OK
* checking for unstated dependencies in examples ... OK
* checking contents of ‘data’ directory ... OK
* checking data for non-ASCII characters ... OK
* checking data for ASCII and uncompressed saves ... OK
* checking files in ‘vignettes’ ... OK
* checking examples ... OK
Examples with CPU or elapsed time > 5s
                      user system elapsed
kCluster           189.132  5.472  52.759
clusterSeq-package 165.032  4.160  45.150
makeClustersFF     147.772  1.780  42.336
makeClusters       139.448  2.536  38.147
wallace             36.084  3.984  11.695
* checking for unstated dependencies in vignettes ... OK
* checking package vignettes in ‘inst/doc’ ... OK
* checking running R code from vignettes ... SKIPPED
* checking re-building of vignette outputs ... SKIPPED
* checking PDF version of manual ... OK
* DONE
Status: OK
clusterSeq.Rcheck/00install.out
############################################################################## ############################################################################## ### ### Running command: ### ### /home/biocbuild/bbs-3.8-bioc/R/bin/R CMD INSTALL clusterSeq ### ############################################################################## ############################################################################## * installing to library ‘/home/biocbuild/bbs-3.8-bioc/R/library’ * installing *source* package ‘clusterSeq’ ... ** R ** data ** byte-compile and prepare package for lazy loading ** help *** installing help indices ** building package indices ** installing vignettes ** testing if installed package can be loaded * DONE (clusterSeq)
clusterSeq.Rcheck/clusterSeq-Ex.timings
| name | user | system | elapsed | |
| associatePosteriors | 1.268 | 0.476 | 0.840 | |
| clusterSeq-package | 165.032 | 4.160 | 45.150 | |
| kCluster | 189.132 | 5.472 | 52.759 | |
| makeClusters | 139.448 | 2.536 | 38.147 | |
| makeClustersFF | 147.772 | 1.780 | 42.336 | |
| plotCluster | 1.500 | 0.360 | 1.065 | |
| wallace | 36.084 | 3.984 | 11.695 | |