| Back to Multiple platform build/check report for BioC 3.8 |
|
This page was generated on 2019-04-13 11:21:33 -0400 (Sat, 13 Apr 2019).
| Package 274/1649 | Hostname | OS / Arch | INSTALL | BUILD | CHECK | BUILD BIN | ||||||
| clst 1.30.0 Noah Hoffman
| malbec1 | Linux (Ubuntu 16.04.6 LTS) / x86_64 | OK | OK | WARNINGS | |||||||
| tokay1 | Windows Server 2012 R2 Standard / x64 | OK | OK | WARNINGS | [ OK ] | |||||||
| merida1 | OS X 10.11.6 El Capitan / x86_64 | OK | OK | WARNINGS | OK |
| Package: clst |
| Version: 1.30.0 |
| Command: rm -rf clst.buildbin-libdir && mkdir clst.buildbin-libdir && C:\Users\biocbuild\bbs-3.8-bioc\R\bin\R.exe CMD INSTALL --merge-multiarch --build --library=clst.buildbin-libdir clst_1.30.0.tar.gz |
| StartedAt: 2019-04-13 07:04:22 -0400 (Sat, 13 Apr 2019) |
| EndedAt: 2019-04-13 07:04:47 -0400 (Sat, 13 Apr 2019) |
| EllapsedTime: 24.5 seconds |
| RetCode: 0 |
| Status: OK |
| PackageFile: clst_1.30.0.zip |
| PackageFileSize: 1.602 MiB |
##############################################################################
##############################################################################
###
### Running command:
###
### rm -rf clst.buildbin-libdir && mkdir clst.buildbin-libdir && C:\Users\biocbuild\bbs-3.8-bioc\R\bin\R.exe CMD INSTALL --merge-multiarch --build --library=clst.buildbin-libdir clst_1.30.0.tar.gz
###
##############################################################################
##############################################################################
install for i386
* installing *source* package 'clst' ...
** R
** data
*** moving datasets to lazyload DB
** inst
** byte-compile and prepare package for lazy loading
** help
*** installing help indices
converting help for package 'clst'
finding HTML links ... done
actino html
bvseqs html
classify html
clst-package html
findThreshold html
plotDistances html
Rd warning: C:/Users/biocbuild/bbs-3.8-bioc/tmpdir/Rtmpwla0aM/R.INSTALL286014c7112a/clst/man/plotDistances.Rd:41: file link 'bwplot' in package 'lattice' does not exist and so has been treated as a topic
printClst html
scaleDistPlot html
strep html
** building package indices
** installing vignettes
** testing if installed package can be loaded
In R CMD INSTALL
install for x64
* installing *source* package 'clst' ...
** testing if installed package can be loaded
* MD5 sums
packaged installation of 'clst' as clst_1.30.0.zip
* DONE (clst)
In R CMD INSTALL
In R CMD INSTALL