| Back to Multiple platform build/check report for BioC 3.8 | 
  | 
This page was generated on 2019-04-13 11:22:55 -0400 (Sat, 13 Apr 2019).
| Package 268/1649 | Hostname | OS / Arch | INSTALL | BUILD | CHECK | BUILD BIN | ||||||
| cleaver 1.20.0 Sebastian Gibb 
  | malbec1 | Linux (Ubuntu 16.04.6 LTS) / x86_64 | OK | OK | OK | |||||||
| tokay1 | Windows Server 2012 R2 Standard / x64 | OK | OK | WARNINGS | [ OK ] | |||||||
| merida1 | OS X 10.11.6 El Capitan / x86_64 | OK | OK | OK | OK | 
| Package: cleaver | 
| Version: 1.20.0 | 
| Command: rm -rf cleaver.buildbin-libdir && mkdir cleaver.buildbin-libdir && C:\Users\biocbuild\bbs-3.8-bioc\R\bin\R.exe CMD INSTALL --merge-multiarch --build --library=cleaver.buildbin-libdir cleaver_1.20.0.tar.gz | 
| StartedAt: 2019-04-13 07:03:58 -0400 (Sat, 13 Apr 2019) | 
| EndedAt: 2019-04-13 07:04:18 -0400 (Sat, 13 Apr 2019) | 
| EllapsedTime: 20.3 seconds | 
| RetCode: 0 | 
| Status: OK | 
| PackageFile: cleaver_1.20.0.zip | 
| PackageFileSize: 229.9 KiB | 
##############################################################################
##############################################################################
###
### Running command:
###
###   rm -rf cleaver.buildbin-libdir && mkdir cleaver.buildbin-libdir && C:\Users\biocbuild\bbs-3.8-bioc\R\bin\R.exe CMD INSTALL --merge-multiarch --build --library=cleaver.buildbin-libdir cleaver_1.20.0.tar.gz
###
##############################################################################
##############################################################################
install for i386
* installing *source* package 'cleaver' ...
** R
** inst
** byte-compile and prepare package for lazy loading
** help
*** installing help indices
  converting help for package 'cleaver'
    finding HTML links ... done
    cleave-methods                          html  
    finding level-2 HTML links ... done
Rd warning: C:/Users/biocbuild/bbs-3.8-bioc/tmpdir/Rtmp4ohdzc/R.INSTALL28303a2f66a0/cleaver/man/cleave-methods.Rd:52: file link 'gregexpr' in package 'base' does not exist and so has been treated as a topic
    cleaver-package                         html  
Rd warning: C:/Users/biocbuild/bbs-3.8-bioc/tmpdir/Rtmp4ohdzc/R.INSTALL28303a2f66a0/cleaver/man/cleaver-package.Rd:7: file link 'cleave' in package 'cleaver' does not exist and so has been treated as a topic
Rd warning: C:/Users/biocbuild/bbs-3.8-bioc/tmpdir/Rtmp4ohdzc/R.INSTALL28303a2f66a0/cleaver/man/cleaver-package.Rd:8: file link 'cleavageRanges' in package 'cleaver' does not exist and so has been treated as a topic
Rd warning: C:/Users/biocbuild/bbs-3.8-bioc/tmpdir/Rtmp4ohdzc/R.INSTALL28303a2f66a0/cleaver/man/cleaver-package.Rd:9: file link 'cleavageSites' in package 'cleaver' does not exist and so has been treated as a topic
Rd warning: C:/Users/biocbuild/bbs-3.8-bioc/tmpdir/Rtmp4ohdzc/R.INSTALL28303a2f66a0/cleaver/man/cleaver-package.Rd:36: file link 'cleave' in package 'cleaver' does not exist and so has been treated as a topic
Rd warning: C:/Users/biocbuild/bbs-3.8-bioc/tmpdir/Rtmp4ohdzc/R.INSTALL28303a2f66a0/cleaver/man/cleaver-package.Rd:36: file link 'cleavageRanges' in package 'cleaver' does not exist and so has been treated as a topic
Rd warning: C:/Users/biocbuild/bbs-3.8-bioc/tmpdir/Rtmp4ohdzc/R.INSTALL28303a2f66a0/cleaver/man/cleaver-package.Rd:37: file link 'cleavageSites' in package 'cleaver' does not exist and so has been treated as a topic
** building package indices
** installing vignettes
** testing if installed package can be loaded
In R CMD INSTALL
install for x64
* installing *source* package 'cleaver' ...
** testing if installed package can be loaded
* MD5 sums
packaged installation of 'cleaver' as cleaver_1.20.0.zip
* DONE (cleaver)
In R CMD INSTALL
In R CMD INSTALL