| Back to Multiple platform build/check report for BioC 3.8 | 
 | 
This page was generated on 2019-04-16 11:50:20 -0400 (Tue, 16 Apr 2019).
| Package 212/1649 | Hostname | OS / Arch | INSTALL | BUILD | CHECK | BUILD BIN | ||||||
| ccrepe 1.18.1 Emma Schwager 
 | malbec1 | Linux (Ubuntu 16.04.6 LTS) / x86_64 | OK | [ OK ] | OK |  | ||||||
| merida1 | OS X 10.11.6 El Capitan / x86_64 | OK | OK | OK | OK |  | 
| Package: ccrepe | 
| Version: 1.18.1 | 
| Command: /home/biocbuild/bbs-3.8-bioc/R/bin/R CMD build --keep-empty-dirs --no-resave-data ccrepe | 
| StartedAt: 2019-04-15 19:39:09 -0400 (Mon, 15 Apr 2019) | 
| EndedAt: 2019-04-15 19:39:22 -0400 (Mon, 15 Apr 2019) | 
| EllapsedTime: 13.0 seconds | 
| RetCode: 0 | 
| Status: OK | 
| PackageFile: ccrepe_1.18.1.tar.gz | 
| PackageFileSize: 284.8 KiB | 
############################################################################## ############################################################################## ### ### Running command: ### ### /home/biocbuild/bbs-3.8-bioc/R/bin/R CMD build --keep-empty-dirs --no-resave-data ccrepe ### ############################################################################## ############################################################################## * checking for file ‘ccrepe/DESCRIPTION’ ... OK * preparing ‘ccrepe’: * checking DESCRIPTION meta-information ... OK * installing the package to build vignettes * creating vignettes ... OK * checking for LF line-endings in source and make files and shell scripts * checking for empty or unneeded directories * building ‘ccrepe_1.18.1.tar.gz’