| Back to Multiple platform build/check report for BioC 3.8 |
|
This page was generated on 2019-04-13 11:26:51 -0400 (Sat, 13 Apr 2019).
| Package 210/1649 | Hostname | OS / Arch | INSTALL | BUILD | CHECK | BUILD BIN | ||||||
| ccmap 1.8.0 Alex Pickering
| malbec1 | Linux (Ubuntu 16.04.6 LTS) / x86_64 | OK | OK | OK | |||||||
| tokay1 | Windows Server 2012 R2 Standard / x64 | OK | OK | OK | [ OK ] | |||||||
| merida1 | OS X 10.11.6 El Capitan / x86_64 | OK | OK | OK | OK |
| Package: ccmap |
| Version: 1.8.0 |
| Command: rm -rf ccmap.buildbin-libdir && mkdir ccmap.buildbin-libdir && C:\Users\biocbuild\bbs-3.8-bioc\R\bin\R.exe CMD INSTALL --merge-multiarch --build --library=ccmap.buildbin-libdir ccmap_1.8.0.tar.gz |
| StartedAt: 2019-04-13 07:00:55 -0400 (Sat, 13 Apr 2019) |
| EndedAt: 2019-04-13 07:01:15 -0400 (Sat, 13 Apr 2019) |
| EllapsedTime: 19.9 seconds |
| RetCode: 0 |
| Status: OK |
| PackageFile: ccmap_1.8.0.zip |
| PackageFileSize: 432.3 KiB |
##############################################################################
##############################################################################
###
### Running command:
###
### rm -rf ccmap.buildbin-libdir && mkdir ccmap.buildbin-libdir && C:\Users\biocbuild\bbs-3.8-bioc\R\bin\R.exe CMD INSTALL --merge-multiarch --build --library=ccmap.buildbin-libdir ccmap_1.8.0.tar.gz
###
##############################################################################
##############################################################################
install for i386
* installing *source* package 'ccmap' ...
** R
** inst
** byte-compile and prepare package for lazy loading
** help
*** installing help indices
converting help for package 'ccmap'
finding HTML links ... done
get_dprimes html
query_combos html
query_drugs html
sum_rowcolCumsum html
** building package indices
** installing vignettes
** testing if installed package can be loaded
In R CMD INSTALL
install for x64
* installing *source* package 'ccmap' ...
** testing if installed package can be loaded
* MD5 sums
packaged installation of 'ccmap' as ccmap_1.8.0.zip
* DONE (ccmap)
In R CMD INSTALL
In R CMD INSTALL