| Back to Multiple platform build/check report for BioC 3.8 | 
 | 
This page was generated on 2019-04-16 11:56:23 -0400 (Tue, 16 Apr 2019).
| Package 181/1649 | Hostname | OS / Arch | INSTALL | BUILD | CHECK | BUILD BIN | ||||||
| bsseq 1.18.0 Kasper Daniel Hansen 
 | malbec1 | Linux (Ubuntu 16.04.6 LTS) / x86_64 | OK | OK | OK |  | ||||||
| merida1 | OS X 10.11.6 El Capitan / x86_64 | OK | [ OK ] | OK | OK |  | 
| Package: bsseq | 
| Version: 1.18.0 | 
| Command: /Library/Frameworks/R.framework/Versions/Current/Resources/bin/R CMD build --keep-empty-dirs --no-resave-data bsseq | 
| StartedAt: 2019-04-15 19:38:07 -0400 (Mon, 15 Apr 2019) | 
| EndedAt: 2019-04-15 19:42:52 -0400 (Mon, 15 Apr 2019) | 
| EllapsedTime: 285.1 seconds | 
| RetCode: 0 | 
| Status: OK | 
| PackageFile: bsseq_1.18.0.tar.gz | 
| PackageFileSize: 2.759 MiB | 
##############################################################################
##############################################################################
###
### Running command:
###
###   /Library/Frameworks/R.framework/Versions/Current/Resources/bin/R CMD build --keep-empty-dirs --no-resave-data bsseq
###
##############################################################################
##############################################################################
* checking for file ‘bsseq/DESCRIPTION’ ... OK
* preparing ‘bsseq’:
* checking DESCRIPTION meta-information ... OK
* cleaning src
* installing the package to build vignettes
* creating vignettes ... OK
Warning: ‘inst/doc’ file
    ‘bsseq_analysis.R’
  ignored as vignettes have been rebuilt.
  Run R CMD build with --no-build-vignettes to prevent rebuilding.
* cleaning src
* checking for LF line-endings in source and make files and shell scripts
* checking for empty or unneeded directories
* looking to see if a ‘data/datalist’ file should be added
* building ‘bsseq_1.18.0.tar.gz’