| Back to Multiple platform build/check report for BioC 3.8 |
|
This page was generated on 2019-04-16 11:59:08 -0400 (Tue, 16 Apr 2019).
| Package 151/1649 | Hostname | OS / Arch | INSTALL | BUILD | CHECK | BUILD BIN | ||||||
| biomformat 1.10.1 Paul J. McMurdie
| malbec1 | Linux (Ubuntu 16.04.6 LTS) / x86_64 | OK | OK | OK | |||||||
| merida1 | OS X 10.11.6 El Capitan / x86_64 | OK | OK | OK | [ OK ] |
| Package: biomformat |
| Version: 1.10.1 |
| Command: rm -rf biomformat.buildbin-libdir && mkdir biomformat.buildbin-libdir && /Users/biocbuild/BBS/utils/build-universal.sh biomformat_1.10.1.tar.gz /Library/Frameworks/R.framework/Versions/Current/Resources/bin/R biomformat.buildbin-libdir |
| StartedAt: 2019-04-16 03:45:17 -0400 (Tue, 16 Apr 2019) |
| EndedAt: 2019-04-16 03:46:06 -0400 (Tue, 16 Apr 2019) |
| EllapsedTime: 48.6 seconds |
| RetCode: 0 |
| Status: OK |
| PackageFile: biomformat_1.10.1.tgz |
| PackageFileSize: 489.9 KiB |
############################################################################## ############################################################################## ### ### Running command: ### ### rm -rf biomformat.buildbin-libdir && mkdir biomformat.buildbin-libdir && /Users/biocbuild/BBS/utils/build-universal.sh biomformat_1.10.1.tar.gz /Library/Frameworks/R.framework/Versions/Current/Resources/bin/R biomformat.buildbin-libdir ### ############################################################################## ############################################################################## >>>>>>> >>>>>>> INSTALLATION WITH 'R CMD INSTALL --preclean --no-multiarch --library=biomformat.buildbin-libdir biomformat_1.10.1.tar.gz' >>>>>>> * installing *source* package ‘biomformat’ ... ** R ** inst ** byte-compile and prepare package for lazy loading Creating a generic function for ‘nrow’ from package ‘base’ in package ‘biomformat’ Creating a generic function for ‘ncol’ from package ‘base’ in package ‘biomformat’ Creating a generic function for ‘rownames’ from package ‘base’ in package ‘biomformat’ Creating a generic function for ‘colnames’ from package ‘base’ in package ‘biomformat’ ** help *** installing help indices ** building package indices ** installing vignettes ** testing if installed package can be loaded * DONE (biomformat)