| Back to Multiple platform build/check report for BioC 3.8 | 
 | 
This page was generated on 2019-04-16 11:54:13 -0400 (Tue, 16 Apr 2019).
| Package 149/1649 | Hostname | OS / Arch | INSTALL | BUILD | CHECK | BUILD BIN | ||||||
| bioDist 1.54.0 Bioconductor Package Maintainer 
 | malbec1 | Linux (Ubuntu 16.04.6 LTS) / x86_64 | OK | OK | OK |  | ||||||
| merida1 | OS X 10.11.6 El Capitan / x86_64 | OK | [ OK ] | OK | OK |  | 
| Package: bioDist | 
| Version: 1.54.0 | 
| Command: /Library/Frameworks/R.framework/Versions/Current/Resources/bin/R CMD build --keep-empty-dirs --no-resave-data bioDist | 
| StartedAt: 2019-04-15 18:56:53 -0400 (Mon, 15 Apr 2019) | 
| EndedAt: 2019-04-15 18:57:36 -0400 (Mon, 15 Apr 2019) | 
| EllapsedTime: 42.6 seconds | 
| RetCode: 0 | 
| Status: OK | 
| PackageFile: bioDist_1.54.0.tar.gz | 
| PackageFileSize: 125.6 KiB | 
############################################################################## ############################################################################## ### ### Running command: ### ### /Library/Frameworks/R.framework/Versions/Current/Resources/bin/R CMD build --keep-empty-dirs --no-resave-data bioDist ### ############################################################################## ############################################################################## * checking for file ‘bioDist/DESCRIPTION’ ... OK * preparing ‘bioDist’: * checking DESCRIPTION meta-information ... OK * installing the package to build vignettes * creating vignettes ... OK * checking for LF line-endings in source and make files and shell scripts * checking for empty or unneeded directories * building ‘bioDist_1.54.0.tar.gz’