| Back to Multiple platform build/check report for BioC 3.8 | 
 | 
This page was generated on 2019-04-16 11:48:09 -0400 (Tue, 16 Apr 2019).
| Package 113/1649 | Hostname | OS / Arch | INSTALL | BUILD | CHECK | BUILD BIN | ||||||
| beadarray 2.32.0 Mark Dunning 
 | malbec1 | Linux (Ubuntu 16.04.6 LTS) / x86_64 | [ OK ] | OK | OK |  | ||||||
| merida1 | OS X 10.11.6 El Capitan / x86_64 | OK | OK | OK | OK |  | 
| Package: beadarray | 
| Version: 2.32.0 | 
| Command: /home/biocbuild/bbs-3.8-bioc/R/bin/R CMD INSTALL beadarray | 
| StartedAt: 2019-04-15 18:10:58 -0400 (Mon, 15 Apr 2019) | 
| EndedAt: 2019-04-15 18:11:21 -0400 (Mon, 15 Apr 2019) | 
| EllapsedTime: 23.0 seconds | 
| RetCode: 0 | 
| Status: OK | 
##############################################################################
##############################################################################
###
### Running command:
###
###   /home/biocbuild/bbs-3.8-bioc/R/bin/R CMD INSTALL beadarray
###
##############################################################################
##############################################################################
* installing to library ‘/home/biocbuild/bbs-3.8-bioc/R/library’
* installing *source* package ‘beadarray’ ...
** libs
gcc -I"/home/biocbuild/bbs-3.8-bioc/R/include" -DNDEBUG   -I/usr/local/include   -fpic  -g -O2  -Wall -c BASH.c -o BASH.o
gcc -I"/home/biocbuild/bbs-3.8-bioc/R/include" -DNDEBUG   -I/usr/local/include   -fpic  -g -O2  -Wall -c HULK.c -o HULK.o
gcc -I"/home/biocbuild/bbs-3.8-bioc/R/include" -DNDEBUG   -I/usr/local/include   -fpic  -g -O2  -Wall -c determiningGridPositions.c -o determiningGridPositions.o
gcc -I"/home/biocbuild/bbs-3.8-bioc/R/include" -DNDEBUG   -I/usr/local/include   -fpic  -g -O2  -Wall -c findAllOutliers.c -o findAllOutliers.o
findAllOutliers.c: In function ‘findBeadStatus’:
findAllOutliers.c:196:29: warning: ‘ma’ may be used uninitialized in this function [-Wmaybe-uninitialized]
   if((inten[k] < (m + *nmads*ma)) && (inten[k] > (m - *nmads*ma))){
                             ^
findAllOutliers.c:196:53: warning: ‘m’ may be used uninitialized in this function [-Wmaybe-uninitialized]
   if((inten[k] < (m + *nmads*ma)) && (inten[k] > (m - *nmads*ma))){
                                                     ^
findAllOutliers.c: In function ‘findAllOutliers’:
findAllOutliers.c:226:20: warning: ‘status’ may be used uninitialized in this function [-Wmaybe-uninitialized]
  beadStatusStruct *status; 
                    ^
gcc -I"/home/biocbuild/bbs-3.8-bioc/R/include" -DNDEBUG   -I/usr/local/include   -fpic  -g -O2  -Wall -c imageProcessing.c -o imageProcessing.o
imageProcessing.c: In function ‘illuminaBackground’:
imageProcessing.c:88:0: warning: ignoring #pragma omp parallel [-Wunknown-pragmas]
     #pragma omp parallel shared(nthreads, nbeads, imageHeight, pixelMatrix, coords) private(tid, start, end)
 ^
imageProcessing.c: In function ‘medianBackground’:
imageProcessing.c:135:0: warning: ignoring #pragma omp parallel [-Wunknown-pragmas]
     #pragma omp parallel shared(nthreads, nbeads, imageHeight, pixelMatrix, coords) private(tid, start, end)
 ^
imageProcessing.c: In function ‘illuminaSharpen’:
imageProcessing.c:244:0: warning: ignoring #pragma omp parallel [-Wunknown-pragmas]
     #pragma omp parallel for private(i, j) shared(sharpened) num_threads(2)
 ^
imageProcessing.c:251:0: warning: ignoring #pragma omp parallel [-Wunknown-pragmas]
     #pragma omp parallel for private(i, j, sum) shared(sharpened) num_threads(2)
 ^
gcc -shared -L/home/biocbuild/bbs-3.8-bioc/R/lib -L/usr/local/lib -o beadarray.so BASH.o HULK.o determiningGridPositions.o findAllOutliers.o imageProcessing.o -L/home/biocbuild/bbs-3.8-bioc/R/lib -lR
installing to /home/biocbuild/bbs-3.8-bioc/R/library/beadarray/libs
** R
** data
*** moving datasets to lazyload DB
** inst
** byte-compile and prepare package for lazy loading
** help
*** installing help indices
** building package indices
** installing vignettes
** testing if installed package can be loaded
* DONE (beadarray)