| Back to Multiple platform build/check report for BioC 3.8 | 
 | 
This page was generated on 2019-04-16 11:54:07 -0400 (Tue, 16 Apr 2019).
| Package 72/1649 | Hostname | OS / Arch | INSTALL | BUILD | CHECK | BUILD BIN | ||||||
| arrayQuality 1.60.0 Agnes Paquet 
 | malbec1 | Linux (Ubuntu 16.04.6 LTS) / x86_64 | OK | OK | WARNINGS |  | ||||||
| merida1 | OS X 10.11.6 El Capitan / x86_64 | OK | [ OK ] | WARNINGS | OK |  | 
| Package: arrayQuality | 
| Version: 1.60.0 | 
| Command: /Library/Frameworks/R.framework/Versions/Current/Resources/bin/R CMD build --keep-empty-dirs --no-resave-data arrayQuality | 
| StartedAt: 2019-04-15 18:55:13 -0400 (Mon, 15 Apr 2019) | 
| EndedAt: 2019-04-15 18:55:47 -0400 (Mon, 15 Apr 2019) | 
| EllapsedTime: 34.5 seconds | 
| RetCode: 0 | 
| Status: OK | 
| PackageFile: arrayQuality_1.60.0.tar.gz | 
| PackageFileSize: 12.82 MiB | 
############################################################################## ############################################################################## ### ### Running command: ### ### /Library/Frameworks/R.framework/Versions/Current/Resources/bin/R CMD build --keep-empty-dirs --no-resave-data arrayQuality ### ############################################################################## ############################################################################## * checking for file ‘arrayQuality/DESCRIPTION’ ... OK * preparing ‘arrayQuality’: * checking DESCRIPTION meta-information ... OK * checking for LF line-endings in source and make files and shell scripts * checking for empty or unneeded directories * looking to see if a ‘data/datalist’ file should be added * building ‘arrayQuality_1.60.0.tar.gz’