| Back to Multiple platform build/check report for BioC 3.8 | 
  | 
This page was generated on 2019-04-16 11:53:05 -0400 (Tue, 16 Apr 2019).
| Package 63/1649 | Hostname | OS / Arch | INSTALL | BUILD | CHECK | BUILD BIN | ||||||
| anota2seq 1.4.2 Christian Oertlin 
  | malbec1 | Linux (Ubuntu 16.04.6 LTS) / x86_64 | OK | [ OK ] | OK | |||||||
| merida1 | OS X 10.11.6 El Capitan / x86_64 | OK | OK | OK | OK | 
| Package: anota2seq | 
| Version: 1.4.2 | 
| Command: /home/biocbuild/bbs-3.8-bioc/R/bin/R CMD build --keep-empty-dirs --no-resave-data anota2seq | 
| StartedAt: 2019-04-15 21:30:07 -0400 (Mon, 15 Apr 2019) | 
| EndedAt: 2019-04-15 21:33:51 -0400 (Mon, 15 Apr 2019) | 
| EllapsedTime: 224.3 seconds | 
| RetCode: 0 | 
| Status: OK | 
| PackageFile: anota2seq_1.4.2.tar.gz | 
| PackageFileSize: 896.9 KiB | 
############################################################################## ############################################################################## ### ### Running command: ### ### /home/biocbuild/bbs-3.8-bioc/R/bin/R CMD build --keep-empty-dirs --no-resave-data anota2seq ### ############################################################################## ############################################################################## * checking for file ‘anota2seq/DESCRIPTION’ ... OK * preparing ‘anota2seq’: * checking DESCRIPTION meta-information ... OK * installing the package to build vignettes * creating vignettes ... OK * checking for LF line-endings in source and make files and shell scripts * checking for empty or unneeded directories * looking to see if a ‘data/datalist’ file should be added * building ‘anota2seq_1.4.2.tar.gz’