| Back to Multiple platform build/check report for BioC 3.8 |
|
This page was generated on 2019-04-16 11:54:07 -0400 (Tue, 16 Apr 2019).
| Package 42/1649 | Hostname | OS / Arch | INSTALL | BUILD | CHECK | BUILD BIN | ||||||
| altcdfenvs 2.44.0 Laurent Gautier
| malbec1 | Linux (Ubuntu 16.04.6 LTS) / x86_64 | OK | OK | OK | |||||||
| merida1 | OS X 10.11.6 El Capitan / x86_64 | OK | OK | OK | [ OK ] |
| Package: altcdfenvs |
| Version: 2.44.0 |
| Command: rm -rf altcdfenvs.buildbin-libdir && mkdir altcdfenvs.buildbin-libdir && /Users/biocbuild/BBS/utils/build-universal.sh altcdfenvs_2.44.0.tar.gz /Library/Frameworks/R.framework/Versions/Current/Resources/bin/R altcdfenvs.buildbin-libdir |
| StartedAt: 2019-04-16 03:39:57 -0400 (Tue, 16 Apr 2019) |
| EndedAt: 2019-04-16 03:40:44 -0400 (Tue, 16 Apr 2019) |
| EllapsedTime: 47.3 seconds |
| RetCode: 0 |
| Status: OK |
| PackageFile: altcdfenvs_2.44.0.tgz |
| PackageFileSize: 745 KiB |
############################################################################## ############################################################################## ### ### Running command: ### ### rm -rf altcdfenvs.buildbin-libdir && mkdir altcdfenvs.buildbin-libdir && /Users/biocbuild/BBS/utils/build-universal.sh altcdfenvs_2.44.0.tar.gz /Library/Frameworks/R.framework/Versions/Current/Resources/bin/R altcdfenvs.buildbin-libdir ### ############################################################################## ############################################################################## >>>>>>> >>>>>>> INSTALLATION WITH 'R CMD INSTALL --preclean --no-multiarch --library=altcdfenvs.buildbin-libdir altcdfenvs_2.44.0.tar.gz' >>>>>>> * installing *source* package ‘altcdfenvs’ ... ** R ** data ** inst ** byte-compile and prepare package for lazy loading NOTE: arguments in definition for validity method for class 'AffyProbesMatch' changed from (obj) to (object) in method for ‘toHypergraph’ with signature ‘"CdfEnvAffy"’: no definition for class “CdfEnvAffy” ** help *** installing help indices ** building package indices ** installing vignettes ** testing if installed package can be loaded * DONE (altcdfenvs)