| Back to Multiple platform build/check report for BioC 3.8 | 
 | 
This page was generated on 2019-04-16 11:47:46 -0400 (Tue, 16 Apr 2019).
| Package 27/1649 | Hostname | OS / Arch | INSTALL | BUILD | CHECK | BUILD BIN | ||||||
| affyio 1.52.0 Ben Bolstad 
 | malbec1 | Linux (Ubuntu 16.04.6 LTS) / x86_64 | OK | [ OK ] | OK |  | ||||||
| merida1 | OS X 10.11.6 El Capitan / x86_64 | OK | OK | OK | OK |  | 
| Package: affyio | 
| Version: 1.52.0 | 
| Command: /home/biocbuild/bbs-3.8-bioc/R/bin/R CMD build --keep-empty-dirs --no-resave-data affyio | 
| StartedAt: 2019-04-15 18:37:18 -0400 (Mon, 15 Apr 2019) | 
| EndedAt: 2019-04-15 18:37:20 -0400 (Mon, 15 Apr 2019) | 
| EllapsedTime: 2.4 seconds | 
| RetCode: 0 | 
| Status: OK | 
| PackageFile: affyio_1.52.0.tar.gz | 
| PackageFileSize: 107 KiB | 
############################################################################## ############################################################################## ### ### Running command: ### ### /home/biocbuild/bbs-3.8-bioc/R/bin/R CMD build --keep-empty-dirs --no-resave-data affyio ### ############################################################################## ############################################################################## * checking for file ‘affyio/DESCRIPTION’ ... OK * preparing ‘affyio’: * checking DESCRIPTION meta-information ... OK * cleaning src * checking for LF line-endings in source and make files and shell scripts * checking for empty or unneeded directories * building ‘affyio_1.52.0.tar.gz’