| Back to Multiple platform build/check report for BioC 3.8 |
|
This page was generated on 2019-04-13 11:19:52 -0400 (Sat, 13 Apr 2019).
| Package 17/1649 | Hostname | OS / Arch | INSTALL | BUILD | CHECK | BUILD BIN | ||||||
| adSplit 1.52.0 Claudio Lottaz
| malbec1 | Linux (Ubuntu 16.04.6 LTS) / x86_64 | OK | OK | OK | |||||||
| tokay1 | Windows Server 2012 R2 Standard / x64 | OK | OK | OK | [ OK ] | |||||||
| merida1 | OS X 10.11.6 El Capitan / x86_64 | OK | OK | OK | OK |
| Package: adSplit |
| Version: 1.52.0 |
| Command: rm -rf adSplit.buildbin-libdir && mkdir adSplit.buildbin-libdir && C:\Users\biocbuild\bbs-3.8-bioc\R\bin\R.exe CMD INSTALL --merge-multiarch --build --library=adSplit.buildbin-libdir adSplit_1.52.0.tar.gz |
| StartedAt: 2019-04-13 06:52:45 -0400 (Sat, 13 Apr 2019) |
| EndedAt: 2019-04-13 06:53:23 -0400 (Sat, 13 Apr 2019) |
| EllapsedTime: 38.5 seconds |
| RetCode: 0 |
| Status: OK |
| PackageFile: adSplit_1.52.0.zip |
| PackageFileSize: 485.8 KiB |
##############################################################################
##############################################################################
###
### Running command:
###
### rm -rf adSplit.buildbin-libdir && mkdir adSplit.buildbin-libdir && C:\Users\biocbuild\bbs-3.8-bioc\R\bin\R.exe CMD INSTALL --merge-multiarch --build --library=adSplit.buildbin-libdir adSplit_1.52.0.tar.gz
###
##############################################################################
##############################################################################
install for i386
* installing *source* package 'adSplit' ...
** libs
C:/Rtools/mingw_32/bin/g++ -I"C:/Users/BIOCBU˜1/BBS-3˜1.8-B/R/include" -DNDEBUG -I"C:/extsoft/include" -O2 -Wall -mtune=generic -c adSplit.cpp -o adSplit.o
adSplit.cpp: In function 'double tscore(double*, int, int, split&, isis_pars&)':
adSplit.cpp:256:77: warning: deprecated conversion from string constant to 'char*' [-Wwrite-strings]
throw Tomato(__LINE__, "tscore: internal error, shame on the programmer");
^
adSplit.cpp: In function 'void isis(char**, double*, int*, int*, int*, int*, int*, double*, int*)':
adSplit.cpp:469:67: warning: deprecated conversion from string constant to 'char*' [-Wwrite-strings]
throw Tomato(__LINE__, "isis() called with unknown function");
^
C:/Rtools/mingw_32/bin/g++ -shared -s -static-libgcc -o adSplit.dll tmp.def adSplit.o -LC:/extsoft/lib/i386 -LC:/extsoft/lib -LC:/Users/BIOCBU˜1/BBS-3˜1.8-B/R/bin/i386 -lR
installing to C:/Users/biocbuild/bbs-3.8-bioc/meat/adSplit.buildbin-libdir/adSplit/libs/i386
** R
** data
** inst
** byte-compile and prepare package for lazy loading
** help
*** installing help indices
converting help for package 'adSplit'
finding HTML links ... done
adSplit-internal html
adSplit html
diana2means html
drawRandomPS html
golubKEGGSplits html
hist.splitSet html
image.splitSet html
makeEID2PROBESenv html
print.split html
print.splitSet html
randomDiana2means html
** building package indices
** installing vignettes
** testing if installed package can be loaded
In R CMD INSTALL
install for x64
* installing *source* package 'adSplit' ...
** libs
C:/Rtools/mingw_64/bin/g++ -I"C:/Users/BIOCBU˜1/BBS-3˜1.8-B/R/include" -DNDEBUG -I"C:/extsoft/include" -O2 -Wall -mtune=generic -c adSplit.cpp -o adSplit.o
adSplit.cpp: In function 'double tscore(double*, int, int, split&, isis_pars&)':
adSplit.cpp:256:77: warning: deprecated conversion from string constant to 'char*' [-Wwrite-strings]
throw Tomato(__LINE__, "tscore: internal error, shame on the programmer");
^
adSplit.cpp: In function 'void isis(char**, double*, int*, int*, int*, int*, int*, double*, int*)':
adSplit.cpp:469:67: warning: deprecated conversion from string constant to 'char*' [-Wwrite-strings]
throw Tomato(__LINE__, "isis() called with unknown function");
^
C:/Rtools/mingw_64/bin/g++ -shared -s -static-libgcc -o adSplit.dll tmp.def adSplit.o -LC:/extsoft/lib/x64 -LC:/extsoft/lib -LC:/Users/BIOCBU˜1/BBS-3˜1.8-B/R/bin/x64 -lR
installing to C:/Users/biocbuild/bbs-3.8-bioc/meat/adSplit.buildbin-libdir/adSplit/libs/x64
** testing if installed package can be loaded
* MD5 sums
packaged installation of 'adSplit' as adSplit_1.52.0.zip
* DONE (adSplit)
In R CMD INSTALL
In R CMD INSTALL