| Back to Multiple platform build/check report for BioC 3.8 | 
  | 
This page was generated on 2019-04-16 11:58:43 -0400 (Tue, 16 Apr 2019).
| Package 11/1649 | Hostname | OS / Arch | INSTALL | BUILD | CHECK | BUILD BIN | ||||||
| acde 1.12.0 Juan Pablo Acosta 
  | malbec1 | Linux (Ubuntu 16.04.6 LTS) / x86_64 | OK | OK | OK | |||||||
| merida1 | OS X 10.11.6 El Capitan / x86_64 | OK | OK | OK | [ OK ] | 
| Package: acde | 
| Version: 1.12.0 | 
| Command: rm -rf acde.buildbin-libdir && mkdir acde.buildbin-libdir && /Users/biocbuild/BBS/utils/build-universal.sh acde_1.12.0.tar.gz /Library/Frameworks/R.framework/Versions/Current/Resources/bin/R acde.buildbin-libdir | 
| StartedAt: 2019-04-16 03:38:38 -0400 (Tue, 16 Apr 2019) | 
| EndedAt: 2019-04-16 03:38:43 -0400 (Tue, 16 Apr 2019) | 
| EllapsedTime: 4.6 seconds | 
| RetCode: 0 | 
| Status: OK | 
| PackageFile: acde_1.12.0.tgz | 
| PackageFileSize: 2.859 MiB | 
############################################################################## ############################################################################## ### ### Running command: ### ### rm -rf acde.buildbin-libdir && mkdir acde.buildbin-libdir && /Users/biocbuild/BBS/utils/build-universal.sh acde_1.12.0.tar.gz /Library/Frameworks/R.framework/Versions/Current/Resources/bin/R acde.buildbin-libdir ### ############################################################################## ############################################################################## >>>>>>> >>>>>>> INSTALLATION WITH 'R CMD INSTALL --preclean --no-multiarch --library=acde.buildbin-libdir acde_1.12.0.tar.gz' >>>>>>> * installing *source* package ‘acde’ ... ** R ** data *** moving datasets to lazyload DB ** inst ** byte-compile and prepare package for lazy loading ** help *** installing help indices ** building package indices ** installing vignettes ** testing if installed package can be loaded * DONE (acde)