| Back to Multiple platform build/check report for BioC 3.8 | 
 | 
This page was generated on 2019-04-16 11:53:54 -0400 (Tue, 16 Apr 2019).
| Package 9/1649 | Hostname | OS / Arch | INSTALL | BUILD | CHECK | BUILD BIN | ||||||
| abseqR 1.0.0 JiaHong Fong 
 | malbec1 | Linux (Ubuntu 16.04.6 LTS) / x86_64 | OK | [ OK ] | OK |  | ||||||
| merida1 | OS X 10.11.6 El Capitan / x86_64 | OK | OK | OK | OK |  | 
| Package: abseqR | 
| Version: 1.0.0 | 
| Command: /home/biocbuild/bbs-3.8-bioc/R/bin/R CMD build --keep-empty-dirs --no-resave-data abseqR | 
| StartedAt: 2019-04-15 21:58:33 -0400 (Mon, 15 Apr 2019) | 
| EndedAt: 2019-04-15 22:00:39 -0400 (Mon, 15 Apr 2019) | 
| EllapsedTime: 126.6 seconds | 
| RetCode: 0 | 
| Status: OK | 
| PackageFile: abseqR_1.0.0.tar.gz | 
| PackageFileSize: 2.741 MiB | 
############################################################################## ############################################################################## ### ### Running command: ### ### /home/biocbuild/bbs-3.8-bioc/R/bin/R CMD build --keep-empty-dirs --no-resave-data abseqR ### ############################################################################## ############################################################################## * checking for file ‘abseqR/DESCRIPTION’ ... OK * preparing ‘abseqR’: * checking DESCRIPTION meta-information ... OK * installing the package to build vignettes * creating vignettes ... OK * checking for LF line-endings in source and make files and shell scripts * checking for empty or unneeded directories * building ‘abseqR_1.0.0.tar.gz’