| Back to Multiple platform build/check report for BioC 3.8 | 
 | 
This page was generated on 2019-04-13 11:21:37 -0400 (Sat, 13 Apr 2019).
| Package 4/1649 | Hostname | OS / Arch | INSTALL | BUILD | CHECK | BUILD BIN | ||||||
| a4Core 1.30.0 Tobias Verbeke 
 | malbec1 | Linux (Ubuntu 16.04.6 LTS) / x86_64 | OK | OK | OK |  | ||||||
| tokay1 | Windows Server 2012 R2 Standard / x64 | [ OK ] | OK | OK | OK |  | ||||||
| merida1 | OS X 10.11.6 El Capitan / x86_64 | OK | OK | OK | OK |  | 
| Package: a4Core | 
| Version: 1.30.0 | 
| Command: C:\cygwin\bin\curl.exe -O https://malbec1.bioconductor.org/BBS/3.8/bioc/src/contrib/a4Core_1.30.0.tar.gz && rm -rf a4Core.buildbin-libdir && mkdir a4Core.buildbin-libdir && C:\Users\biocbuild\bbs-3.8-bioc\R\bin\R.exe CMD INSTALL --merge-multiarch --build --library=a4Core.buildbin-libdir a4Core_1.30.0.tar.gz && C:\Users\biocbuild\bbs-3.8-bioc\R\bin\R.exe CMD INSTALL a4Core_1.30.0.zip && rm a4Core_1.30.0.tar.gz a4Core_1.30.0.zip | 
| StartedAt: 2019-04-12 18:49:01 -0400 (Fri, 12 Apr 2019) | 
| EndedAt: 2019-04-12 18:49:36 -0400 (Fri, 12 Apr 2019) | 
| EllapsedTime: 34.8 seconds | 
| RetCode: 0 | 
| Status: OK | 
##############################################################################
##############################################################################
###
### Running command:
###
###   C:\cygwin\bin\curl.exe -O https://malbec1.bioconductor.org/BBS/3.8/bioc/src/contrib/a4Core_1.30.0.tar.gz && rm -rf a4Core.buildbin-libdir && mkdir a4Core.buildbin-libdir && C:\Users\biocbuild\bbs-3.8-bioc\R\bin\R.exe CMD INSTALL --merge-multiarch --build --library=a4Core.buildbin-libdir a4Core_1.30.0.tar.gz && C:\Users\biocbuild\bbs-3.8-bioc\R\bin\R.exe CMD INSTALL a4Core_1.30.0.zip && rm a4Core_1.30.0.tar.gz a4Core_1.30.0.zip
###
##############################################################################
##############################################################################
  % Total    % Received % Xferd  Average Speed   Time    Time     Time  Current
                                 Dload  Upload   Total   Spent    Left  Speed
  0     0    0     0    0     0      0      0 --:--:-- --:--:-- --:--:--     0
100  3582  100  3582    0     0  91688      0 --:--:-- --:--:-- --:--:--   99k
install for i386
* installing *source* package 'a4Core' ...
** R
** inst
** byte-compile and prepare package for lazy loading
** help
*** installing help indices
  converting help for package 'a4Core'
    finding HTML links ... done
    confusionMatrix                         html  
    simulateData                            html  
    topTable-methods                        html  
    topTable                                html  
** building package indices
** testing if installed package can be loaded
In R CMD INSTALL
install for x64
* installing *source* package 'a4Core' ...
** testing if installed package can be loaded
* MD5 sums
packaged installation of 'a4Core' as a4Core_1.30.0.zip
* DONE (a4Core)
In R CMD INSTALL
In R CMD INSTALL
* installing to library 'C:/Users/biocbuild/bbs-3.8-bioc/R/library'
package 'a4Core' successfully unpacked and MD5 sums checked
In R CMD INSTALL