| Back to Multiple platform build/check report for BioC 3.8 | 
  | 
This page was generated on 2019-04-16 11:57:31 -0400 (Tue, 16 Apr 2019).
| Package 1609/1649 | Hostname | OS / Arch | INSTALL | BUILD | CHECK | BUILD BIN | ||||||
| UNDO 1.24.0 Niya Wang 
  | malbec1 | Linux (Ubuntu 16.04.6 LTS) / x86_64 | OK | OK | OK | |||||||
| merida1 | OS X 10.11.6 El Capitan / x86_64 | OK | [ OK ] | OK | OK | 
| Package: UNDO | 
| Version: 1.24.0 | 
| Command: /Library/Frameworks/R.framework/Versions/Current/Resources/bin/R CMD build --keep-empty-dirs --no-resave-data UNDO | 
| StartedAt: 2019-04-15 19:58:45 -0400 (Mon, 15 Apr 2019) | 
| EndedAt: 2019-04-15 19:58:54 -0400 (Mon, 15 Apr 2019) | 
| EllapsedTime: 9.1 seconds | 
| RetCode: 0 | 
| Status: OK | 
| PackageFile: UNDO_1.24.0.tar.gz | 
| PackageFileSize: 1020 KiB | 
############################################################################## ############################################################################## ### ### Running command: ### ### /Library/Frameworks/R.framework/Versions/Current/Resources/bin/R CMD build --keep-empty-dirs --no-resave-data UNDO ### ############################################################################## ############################################################################## * checking for file ‘UNDO/DESCRIPTION’ ... OK * preparing ‘UNDO’: * checking DESCRIPTION meta-information ... OK * installing the package to build vignettes * creating vignettes ... OK * checking for LF line-endings in source and make files and shell scripts * checking for empty or unneeded directories * looking to see if a ‘data/datalist’ file should be added * building ‘UNDO_1.24.0.tar.gz’