| Back to Multiple platform build/check report for BioC 3.8 |
|
This page was generated on 2019-04-16 11:49:46 -0400 (Tue, 16 Apr 2019).
| Package 1581/1649 | Hostname | OS / Arch | INSTALL | BUILD | CHECK | BUILD BIN | ||||||
| TransView 1.26.1 Julius Muller
| malbec1 | Linux (Ubuntu 16.04.6 LTS) / x86_64 | [ OK ] | OK | OK | |||||||
| merida1 | OS X 10.11.6 El Capitan / x86_64 | OK | OK | OK | OK |
| Package: TransView |
| Version: 1.26.1 |
| Command: /home/biocbuild/bbs-3.8-bioc/R/bin/R CMD INSTALL TransView |
| StartedAt: 2019-04-15 18:11:44 -0400 (Mon, 15 Apr 2019) |
| EndedAt: 2019-04-15 18:12:01 -0400 (Mon, 15 Apr 2019) |
| EllapsedTime: 17.4 seconds |
| RetCode: 0 |
| Status: OK |
##############################################################################
##############################################################################
###
### Running command:
###
### /home/biocbuild/bbs-3.8-bioc/R/bin/R CMD INSTALL TransView
###
##############################################################################
##############################################################################
* installing to library ‘/home/biocbuild/bbs-3.8-bioc/R/library’
* installing *source* package ‘TransView’ ...
** libs
gcc -I"/home/biocbuild/bbs-3.8-bioc/R/include" -DNDEBUG -D_USE_KNETFILE -DBGZF_CACHE -D_FILE_OFFSET_BITS=64 -D_LARGEFILE64_SOURCE -I"/home/biocbuild/bbs-3.8-bioc/R/library/Rsamtools/include" -I/usr/local/include -fpic -g -O2 -Wall -c R_init_TransView.c -o R_init_TransView.o
gcc -I"/home/biocbuild/bbs-3.8-bioc/R/include" -DNDEBUG -D_USE_KNETFILE -DBGZF_CACHE -D_FILE_OFFSET_BITS=64 -D_LARGEFILE64_SOURCE -I"/home/biocbuild/bbs-3.8-bioc/R/library/Rsamtools/include" -I/usr/local/include -fpic -g -O2 -Wall -c bin_density.c -o bin_density.o
gcc -I"/home/biocbuild/bbs-3.8-bioc/R/include" -DNDEBUG -D_USE_KNETFILE -DBGZF_CACHE -D_FILE_OFFSET_BITS=64 -D_LARGEFILE64_SOURCE -I"/home/biocbuild/bbs-3.8-bioc/R/library/Rsamtools/include" -I/usr/local/include -fpic -g -O2 -Wall -c construct_dc.c -o construct_dc.o
gcc -I"/home/biocbuild/bbs-3.8-bioc/R/include" -DNDEBUG -D_USE_KNETFILE -DBGZF_CACHE -D_FILE_OFFSET_BITS=64 -D_LARGEFILE64_SOURCE -I"/home/biocbuild/bbs-3.8-bioc/R/library/Rsamtools/include" -I/usr/local/include -fpic -g -O2 -Wall -c parse_sam.c -o parse_sam.o
gcc -I"/home/biocbuild/bbs-3.8-bioc/R/include" -DNDEBUG -D_USE_KNETFILE -DBGZF_CACHE -D_FILE_OFFSET_BITS=64 -D_LARGEFILE64_SOURCE -I"/home/biocbuild/bbs-3.8-bioc/R/library/Rsamtools/include" -I/usr/local/include -fpic -g -O2 -Wall -c slice_dc.c -o slice_dc.o
slice_dc.c: In function ‘slice_dc’:
slice_dc.c:179:5: warning: ‘slicep’ may be used uninitialized in this function [-Wmaybe-uninitialized]
shrink(slicep,new_vecp,rebuildc,wsize,summarizep);
^
gcc -I"/home/biocbuild/bbs-3.8-bioc/R/include" -DNDEBUG -D_USE_KNETFILE -DBGZF_CACHE -D_FILE_OFFSET_BITS=64 -D_LARGEFILE64_SOURCE -I"/home/biocbuild/bbs-3.8-bioc/R/library/Rsamtools/include" -I/usr/local/include -fpic -g -O2 -Wall -c visuals.c -o visuals.o
gcc -shared -L/home/biocbuild/bbs-3.8-bioc/R/lib -L/usr/local/lib -o TransView.so R_init_TransView.o bin_density.o construct_dc.o parse_sam.o slice_dc.o visuals.o /home/biocbuild/bbs-3.8-bioc/R/library/Rsamtools/usrlib//libbam.a /home/biocbuild/bbs-3.8-bioc/R/library/Rsamtools/usrlib//libbcf.a /home/biocbuild/bbs-3.8-bioc/R/library/Rsamtools/usrlib//libtabix.a -lz -pthread -L/home/biocbuild/bbs-3.8-bioc/R/lib -lR
installing to /home/biocbuild/bbs-3.8-bioc/R/library/TransView/libs
** R
** inst
** byte-compile and prepare package for lazy loading
** help
*** installing help indices
** building package indices
** installing vignettes
** testing if installed package can be loaded
* DONE (TransView)