| Back to Multiple platform build/check report for BioC 3.8 |
|
This page was generated on 2019-04-16 11:50:07 -0400 (Tue, 16 Apr 2019).
| Package 1542/1649 | Hostname | OS / Arch | INSTALL | BUILD | CHECK | BUILD BIN | ||||||
| TargetScore 1.20.0 Yue Li
| malbec1 | Linux (Ubuntu 16.04.6 LTS) / x86_64 | OK | OK | [ OK ] | |||||||
| merida1 | OS X 10.11.6 El Capitan / x86_64 | OK | OK | OK | OK |
| Package: TargetScore |
| Version: 1.20.0 |
| Command: /home/biocbuild/bbs-3.8-bioc/R/bin/R CMD check --install=check:TargetScore.install-out.txt --library=/home/biocbuild/bbs-3.8-bioc/R/library --no-vignettes --timings TargetScore_1.20.0.tar.gz |
| StartedAt: 2019-04-16 03:22:00 -0400 (Tue, 16 Apr 2019) |
| EndedAt: 2019-04-16 03:22:37 -0400 (Tue, 16 Apr 2019) |
| EllapsedTime: 37.5 seconds |
| RetCode: 0 |
| Status: OK |
| CheckDir: TargetScore.Rcheck |
| Warnings: 0 |
##############################################################################
##############################################################################
###
### Running command:
###
### /home/biocbuild/bbs-3.8-bioc/R/bin/R CMD check --install=check:TargetScore.install-out.txt --library=/home/biocbuild/bbs-3.8-bioc/R/library --no-vignettes --timings TargetScore_1.20.0.tar.gz
###
##############################################################################
##############################################################################
* using log directory ‘/home/biocbuild/bbs-3.8-bioc/meat/TargetScore.Rcheck’
* using R version 3.5.3 (2019-03-11)
* using platform: x86_64-pc-linux-gnu (64-bit)
* using session charset: UTF-8
* using option ‘--no-vignettes’
* checking for file ‘TargetScore/DESCRIPTION’ ... OK
* checking extension type ... Package
* this is package ‘TargetScore’ version ‘1.20.0’
* checking package namespace information ... OK
* checking package dependencies ... OK
* checking if this is a source package ... OK
* checking if there is a namespace ... OK
* checking for hidden files and directories ... OK
* checking for portable file names ... OK
* checking for sufficient/correct file permissions ... OK
* checking whether package ‘TargetScore’ can be installed ... OK
* checking installed package size ... OK
* checking package directory ... OK
* checking ‘build’ directory ... OK
* checking DESCRIPTION meta-information ... OK
* checking top-level files ... OK
* checking for left-over files ... OK
* checking index information ... OK
* checking package subdirectories ... OK
* checking R files for non-ASCII characters ... OK
* checking R files for syntax errors ... OK
* checking whether the package can be loaded ... OK
* checking whether the package can be loaded with stated dependencies ... OK
* checking whether the package can be unloaded cleanly ... OK
* checking whether the namespace can be loaded with stated dependencies ... OK
* checking whether the namespace can be unloaded cleanly ... OK
* checking dependencies in R code ... OK
* checking S3 generic/method consistency ... OK
* checking replacement functions ... OK
* checking foreign function calls ... OK
* checking R code for possible problems ... NOTE
dot.ext: no visible global function definition for ‘size’
getTargetScores: no visible global function definition for
‘get_TargetScanHuman_contextScore’
getTargetScores: no visible global function definition for
‘get_TargetScanHuman_PCT’
getTargetScores: no visible global function definition for
‘get_validated_targets’
getTargetScores: no visible global function definition for
‘get_miRNA_family_info’
getTargetScores: no visible binding for global variable ‘logFC.imputed’
getTargetScores : <anonymous>: no visible global function definition
for ‘cor’
getTargetScores: no visible global function definition for ‘aggregate’
logmvgamma: no visible global function definition for ‘size’
targetScore: no visible global function definition for ‘as.roman’
targetScore : <anonymous>: no visible global function definition for
‘as.roman’
targetScore: no visible global function definition for ‘sigmoid’
Undefined global functions or variables:
aggregate as.roman cor get_TargetScanHuman_PCT
get_TargetScanHuman_contextScore get_miRNA_family_info
get_validated_targets logFC.imputed sigmoid size
Consider adding
importFrom("stats", "aggregate", "cor")
importFrom("utils", "as.roman")
to your NAMESPACE file.
* checking Rd files ... OK
* checking Rd metadata ... OK
* checking Rd cross-references ... OK
* checking for missing documentation entries ... OK
* checking for code/documentation mismatches ... OK
* checking Rd \usage sections ... OK
* checking Rd contents ... OK
* checking for unstated dependencies in examples ... OK
* checking files in ‘vignettes’ ... OK
* checking examples ... OK
* checking for unstated dependencies in vignettes ... OK
* checking package vignettes in ‘inst/doc’ ... OK
* checking running R code from vignettes ... SKIPPED
* checking re-building of vignette outputs ... SKIPPED
* checking PDF version of manual ... OK
* DONE
Status: 1 NOTE
See
‘/home/biocbuild/bbs-3.8-bioc/meat/TargetScore.Rcheck/00check.log’
for details.
TargetScore.Rcheck/00install.out
############################################################################## ############################################################################## ### ### Running command: ### ### /home/biocbuild/bbs-3.8-bioc/R/bin/R CMD INSTALL TargetScore ### ############################################################################## ############################################################################## * installing to library ‘/home/biocbuild/bbs-3.8-bioc/R/library’ * installing *source* package ‘TargetScore’ ... ** R ** inst ** byte-compile and prepare package for lazy loading ** help *** installing help indices ** building package indices ** installing vignettes ** testing if installed package can be loaded * DONE (TargetScore)
TargetScore.Rcheck/TargetScore-Ex.timings
| name | user | system | elapsed | |
| TargetScore-package | 0 | 0 | 0 | |
| bsxfun.se | 0.000 | 0.000 | 0.001 | |
| dot.ext | 0.000 | 0.000 | 0.001 | |
| getTargetScores | 0.000 | 0.000 | 0.003 | |
| initialization | 0.016 | 0.000 | 0.019 | |
| logmvgamma | 0.000 | 0.000 | 0.002 | |
| logsumexp | 0 | 0 | 0 | |
| sort_components | 0.104 | 0.000 | 0.104 | |
| targetScore | 0.476 | 0.000 | 0.479 | |
| vbgmm | 0.080 | 0.000 | 0.078 | |
| vbound | 0.084 | 0.000 | 0.082 | |
| vexp | 0.076 | 0.000 | 0.079 | |
| vmax | 0.080 | 0.000 | 0.083 | |