| Back to Multiple platform build/check report for BioC 3.8 | 
 | 
This page was generated on 2019-04-13 11:28:48 -0400 (Sat, 13 Apr 2019).
| Package 1598/1649 | Hostname | OS / Arch | INSTALL | BUILD | CHECK | BUILD BIN | ||||||
| TTMap 1.4.0 Rachel Jeitziner 
 | malbec1 | Linux (Ubuntu 16.04.6 LTS) / x86_64 | OK | OK | NA | |||||||
| tokay1 | Windows Server 2012 R2 Standard / x64 | [ OK ] | OK | OK | OK |  | ||||||
| merida1 | OS X 10.11.6 El Capitan / x86_64 | OK | OK | WARNINGS | OK |  | 
| Package: TTMap | 
| Version: 1.4.0 | 
| Command: C:\cygwin\bin\curl.exe -O https://malbec1.bioconductor.org/BBS/3.8/bioc/src/contrib/TTMap_1.4.0.tar.gz && rm -rf TTMap.buildbin-libdir && mkdir TTMap.buildbin-libdir && C:\Users\biocbuild\bbs-3.8-bioc\R\bin\R.exe CMD INSTALL --merge-multiarch --build --library=TTMap.buildbin-libdir TTMap_1.4.0.tar.gz && C:\Users\biocbuild\bbs-3.8-bioc\R\bin\R.exe CMD INSTALL TTMap_1.4.0.zip && rm TTMap_1.4.0.tar.gz TTMap_1.4.0.zip | 
| StartedAt: 2019-04-12 19:49:23 -0400 (Fri, 12 Apr 2019) | 
| EndedAt: 2019-04-12 19:50:08 -0400 (Fri, 12 Apr 2019) | 
| EllapsedTime: 44.7 seconds | 
| RetCode: 0 | 
| Status: OK | 
##############################################################################
##############################################################################
###
### Running command:
###
###   C:\cygwin\bin\curl.exe -O https://malbec1.bioconductor.org/BBS/3.8/bioc/src/contrib/TTMap_1.4.0.tar.gz && rm -rf TTMap.buildbin-libdir && mkdir TTMap.buildbin-libdir && C:\Users\biocbuild\bbs-3.8-bioc\R\bin\R.exe CMD INSTALL --merge-multiarch --build --library=TTMap.buildbin-libdir TTMap_1.4.0.tar.gz && C:\Users\biocbuild\bbs-3.8-bioc\R\bin\R.exe CMD INSTALL TTMap_1.4.0.zip && rm TTMap_1.4.0.tar.gz TTMap_1.4.0.zip
###
##############################################################################
##############################################################################
  % Total    % Received % Xferd  Average Speed   Time    Time     Time  Current
                                 Dload  Upload   Total   Spent    Left  Speed
  0     0    0     0    0     0      0      0 --:--:-- --:--:-- --:--:--     0
100  361k  100  361k    0     0  9233k      0 --:--:-- --:--:-- --:--:-- 10.0M
install for i386
* installing *source* package 'TTMap' ...
** R
** byte-compile and prepare package for lazy loading
** help
*** installing help indices
  converting help for package 'TTMap'
    finding HTML links ... done
    TTMap-package                           html  
    calcul_e                                html  
    control_adjustment                      html  
    generate_correlation                    html  
    hyperrectangle_deviation_assessment     html  
    make_matrices-methods                   html  
    make_matrices                           html  
    finding level-2 HTML links ... done
    ttmap                                   html  
    ttmap_sgn_genes                         html  
    write_pcl                               html  
** building package indices
** installing vignettes
** testing if installed package can be loaded
In R CMD INSTALL
install for x64
* installing *source* package 'TTMap' ...
** testing if installed package can be loaded
* MD5 sums
packaged installation of 'TTMap' as TTMap_1.4.0.zip
* DONE (TTMap)
In R CMD INSTALL
In R CMD INSTALL
* installing to library 'C:/Users/biocbuild/bbs-3.8-bioc/R/library'
package 'TTMap' successfully unpacked and MD5 sums checked
In R CMD INSTALL