| Back to Multiple platform build/check report for BioC 3.8 | 
 | 
This page was generated on 2019-04-16 11:58:34 -0400 (Tue, 16 Apr 2019).
| Package 1574/1649 | Hostname | OS / Arch | INSTALL | BUILD | CHECK | BUILD BIN | ||||||
| TPP 3.10.1 Dorothee Childs 
 | malbec1 | Linux (Ubuntu 16.04.6 LTS) / x86_64 | OK | OK | OK |  | ||||||
| merida1 | OS X 10.11.6 El Capitan / x86_64 | OK | OK | OK | [ OK ] |  | 
| Package: TPP | 
| Version: 3.10.1 | 
| Command: rm -rf TPP.buildbin-libdir && mkdir TPP.buildbin-libdir && /Users/biocbuild/BBS/utils/build-universal.sh TPP_3.10.1.tar.gz /Library/Frameworks/R.framework/Versions/Current/Resources/bin/R TPP.buildbin-libdir | 
| StartedAt: 2019-04-16 04:51:25 -0400 (Tue, 16 Apr 2019) | 
| EndedAt: 2019-04-16 04:52:12 -0400 (Tue, 16 Apr 2019) | 
| EllapsedTime: 46.9 seconds | 
| RetCode: 0 | 
| Status: OK | 
| PackageFile: TPP_3.10.1.tgz | 
| PackageFileSize: 8.881 MiB | 
############################################################################## ############################################################################## ### ### Running command: ### ### rm -rf TPP.buildbin-libdir && mkdir TPP.buildbin-libdir && /Users/biocbuild/BBS/utils/build-universal.sh TPP_3.10.1.tar.gz /Library/Frameworks/R.framework/Versions/Current/Resources/bin/R TPP.buildbin-libdir ### ############################################################################## ############################################################################## >>>>>>> >>>>>>> INSTALLATION WITH 'R CMD INSTALL --preclean --no-multiarch --library=TPP.buildbin-libdir TPP_3.10.1.tar.gz' >>>>>>> * installing *source* package ‘TPP’ ... ** R ** data ** inst ** byte-compile and prepare package for lazy loading ** help *** installing help indices ** building package indices ** installing vignettes ** testing if installed package can be loaded * DONE (TPP)