| Back to Multiple platform build/check report for BioC 3.8 |
|
This page was generated on 2019-04-13 11:29:10 -0400 (Sat, 13 Apr 2019).
| Package 1558/1649 | Hostname | OS / Arch | INSTALL | BUILD | CHECK | BUILD BIN | ||||||
| TFutils 1.2.0 Shweta Gopaulakrishnan
| malbec1 | Linux (Ubuntu 16.04.6 LTS) / x86_64 | OK | OK | NA | |||||||
| tokay1 | Windows Server 2012 R2 Standard / x64 | OK | OK | WARNINGS | [ OK ] | |||||||
| merida1 | OS X 10.11.6 El Capitan / x86_64 | OK | OK | OK | OK |
| Package: TFutils |
| Version: 1.2.0 |
| Command: rm -rf TFutils.buildbin-libdir && mkdir TFutils.buildbin-libdir && C:\Users\biocbuild\bbs-3.8-bioc\R\bin\R.exe CMD INSTALL --merge-multiarch --build --library=TFutils.buildbin-libdir TFutils_1.2.0.tar.gz |
| StartedAt: 2019-04-13 08:01:23 -0400 (Sat, 13 Apr 2019) |
| EndedAt: 2019-04-13 08:01:55 -0400 (Sat, 13 Apr 2019) |
| EllapsedTime: 31.6 seconds |
| RetCode: 0 |
| Status: OK |
| PackageFile: TFutils_1.2.0.zip |
| PackageFileSize: 2.459 MiB |
##############################################################################
##############################################################################
###
### Running command:
###
### rm -rf TFutils.buildbin-libdir && mkdir TFutils.buildbin-libdir && C:\Users\biocbuild\bbs-3.8-bioc\R\bin\R.exe CMD INSTALL --merge-multiarch --build --library=TFutils.buildbin-libdir TFutils_1.2.0.tar.gz
###
##############################################################################
##############################################################################
install for i386
* installing *source* package 'TFutils' ...
** R
** data
*** moving datasets to lazyload DB
** inst
** byte-compile and prepare package for lazy loading
** help
*** installing help indices
converting help for package 'TFutils'
finding HTML links ... done
HGNCmap html
TFCatalog-class html
TFCatalog html
TFtargs html
URL_s3_tf html
cisbpTFcat html
directHitsInCISBP html
encode690 html
fimo16 html
fimoMap html
genemodForGviz html
genemodelDF html
grabTab html
gwascat_hg19_chr17 html
hocomoco.mono html
hocomoco.mono.sep2018 html
importFIMO html
importFIMO_local_split html
metadata_tf html
named_tf html
show-TFCatalog-method html
tfhash html
tftColl html
tftCollMap html
topTraitsOfTargets html
** building package indices
** installing vignettes
** testing if installed package can be loaded
In R CMD INSTALL
install for x64
* installing *source* package 'TFutils' ...
** testing if installed package can be loaded
* MD5 sums
packaged installation of 'TFutils' as TFutils_1.2.0.zip
* DONE (TFutils)
In R CMD INSTALL
In R CMD INSTALL