| Back to Multiple platform build/check report for BioC 3.8 | 
 | 
This page was generated on 2019-04-13 11:28:02 -0400 (Sat, 13 Apr 2019).
| Package 1457/1649 | Hostname | OS / Arch | INSTALL | BUILD | CHECK | BUILD BIN | ||||||
| SingleCellExperiment 1.4.1 Davide Risso 
 | malbec1 | Linux (Ubuntu 16.04.6 LTS) / x86_64 | OK | OK | NA | |||||||
| tokay1 | Windows Server 2012 R2 Standard / x64 | OK | OK | WARNINGS | [ OK ] |  | ||||||
| merida1 | OS X 10.11.6 El Capitan / x86_64 | OK | OK | OK | OK |  | 
| Package: SingleCellExperiment | 
| Version: 1.4.1 | 
| Command: rm -rf SingleCellExperiment.buildbin-libdir && mkdir SingleCellExperiment.buildbin-libdir && C:\Users\biocbuild\bbs-3.8-bioc\R\bin\R.exe CMD INSTALL --merge-multiarch --build --library=SingleCellExperiment.buildbin-libdir SingleCellExperiment_1.4.1.tar.gz | 
| StartedAt: 2019-04-13 07:58:03 -0400 (Sat, 13 Apr 2019) | 
| EndedAt: 2019-04-13 07:58:26 -0400 (Sat, 13 Apr 2019) | 
| EllapsedTime: 23.0 seconds | 
| RetCode: 0 | 
| Status: OK | 
| PackageFile: SingleCellExperiment_1.4.1.zip | 
| PackageFileSize: 1.485 MiB | 
##############################################################################
##############################################################################
###
### Running command:
###
###   rm -rf SingleCellExperiment.buildbin-libdir && mkdir SingleCellExperiment.buildbin-libdir && C:\Users\biocbuild\bbs-3.8-bioc\R\bin\R.exe CMD INSTALL --merge-multiarch --build --library=SingleCellExperiment.buildbin-libdir SingleCellExperiment_1.4.1.tar.gz
###
##############################################################################
##############################################################################
install for i386
* installing *source* package 'SingleCellExperiment' ...
** R
** inst
** byte-compile and prepare package for lazy loading
** help
*** installing help indices
  converting help for package 'SingleCellExperiment'
    finding HTML links ... done
    LEM-combine                             html  
    LEM-getset                              html  
    LEM-misc                                html  
    LEM-subset                              html  
    LinearEmbeddingMatrix                   html  
    SCE-assays                              html  
Rd warning: C:/Users/biocbuild/bbs-3.8-bioc/tmpdir/RtmpsN0onl/R.INSTALLc9449b0d51/SingleCellExperiment/man/SCE-assays.Rd:59: file link 'assays' in package 'SummarizedExperiment' does not exist and so has been treated as a topic
    SCE-colData                             html  
    finding level-2 HTML links ... done
    SCE-combine                             html  
    SCE-internal                            html  
    SCE-isSpike                             html  
    SCE-misc                                html  
    SCE-reducedDims                         html  
    SCE-sizeFactors                         html  
    SCE-subset                              html  
    SingleCellExperiment                    html  
** building package indices
** installing vignettes
** testing if installed package can be loaded
In R CMD INSTALL
install for x64
* installing *source* package 'SingleCellExperiment' ...
** testing if installed package can be loaded
* MD5 sums
packaged installation of 'SingleCellExperiment' as SingleCellExperiment_1.4.1.zip
* DONE (SingleCellExperiment)
In R CMD INSTALL
In R CMD INSTALL