| Back to Multiple platform build/check report for BioC 3.8 | 
 | 
This page was generated on 2019-04-16 11:58:05 -0400 (Tue, 16 Apr 2019).
| Package 1439/1649 | Hostname | OS / Arch | INSTALL | BUILD | CHECK | BUILD BIN | ||||||
| SigCheck 2.14.0 Rory Stark 
 | malbec1 | Linux (Ubuntu 16.04.6 LTS) / x86_64 | OK | OK | OK |  | ||||||
| merida1 | OS X 10.11.6 El Capitan / x86_64 | OK | OK | OK | [ OK ] |  | 
| Package: SigCheck | 
| Version: 2.14.0 | 
| Command: rm -rf SigCheck.buildbin-libdir && mkdir SigCheck.buildbin-libdir && /Users/biocbuild/BBS/utils/build-universal.sh SigCheck_2.14.0.tar.gz /Library/Frameworks/R.framework/Versions/Current/Resources/bin/R SigCheck.buildbin-libdir | 
| StartedAt: 2019-04-16 04:44:58 -0400 (Tue, 16 Apr 2019) | 
| EndedAt: 2019-04-16 04:45:41 -0400 (Tue, 16 Apr 2019) | 
| EllapsedTime: 42.5 seconds | 
| RetCode: 0 | 
| Status: OK | 
| PackageFile: SigCheck_2.14.0.tgz | 
| PackageFileSize: 636 KiB | 
############################################################################## ############################################################################## ### ### Running command: ### ### rm -rf SigCheck.buildbin-libdir && mkdir SigCheck.buildbin-libdir && /Users/biocbuild/BBS/utils/build-universal.sh SigCheck_2.14.0.tar.gz /Library/Frameworks/R.framework/Versions/Current/Resources/bin/R SigCheck.buildbin-libdir ### ############################################################################## ############################################################################## >>>>>>> >>>>>>> INSTALLATION WITH 'R CMD INSTALL --preclean --no-multiarch --library=SigCheck.buildbin-libdir SigCheck_2.14.0.tar.gz' >>>>>>> * installing *source* package ‘SigCheck’ ... ** R ** data ** inst ** byte-compile and prepare package for lazy loading Creating a new generic function for ‘signature’ in package ‘SigCheck’ ** help *** installing help indices ** building package indices ** installing vignettes ** testing if installed package can be loaded * DONE (SigCheck)