| Back to Multiple platform build/check report for BioC 3.8 |
|
This page was generated on 2019-04-13 11:28:31 -0400 (Sat, 13 Apr 2019).
| Package 1426/1649 | Hostname | OS / Arch | INSTALL | BUILD | CHECK | BUILD BIN | ||||||
| SeqSQC 1.4.0 Qian Liu
| malbec1 | Linux (Ubuntu 16.04.6 LTS) / x86_64 | OK | OK | NA | |||||||
| tokay1 | Windows Server 2012 R2 Standard / x64 | OK | OK | OK | [ OK ] | |||||||
| merida1 | OS X 10.11.6 El Capitan / x86_64 | OK | OK | OK | OK |
| Package: SeqSQC |
| Version: 1.4.0 |
| Command: rm -rf SeqSQC.buildbin-libdir && mkdir SeqSQC.buildbin-libdir && C:\Users\biocbuild\bbs-3.8-bioc\R\bin\R.exe CMD INSTALL --merge-multiarch --build --library=SeqSQC.buildbin-libdir SeqSQC_1.4.0.tar.gz |
| StartedAt: 2019-04-13 07:56:43 -0400 (Sat, 13 Apr 2019) |
| EndedAt: 2019-04-13 07:57:01 -0400 (Sat, 13 Apr 2019) |
| EllapsedTime: 18.0 seconds |
| RetCode: 0 |
| Status: OK |
| PackageFile: SeqSQC_1.4.0.zip |
| PackageFileSize: 3.783 MiB |
##############################################################################
##############################################################################
###
### Running command:
###
### rm -rf SeqSQC.buildbin-libdir && mkdir SeqSQC.buildbin-libdir && C:\Users\biocbuild\bbs-3.8-bioc\R\bin\R.exe CMD INSTALL --merge-multiarch --build --library=SeqSQC.buildbin-libdir SeqSQC_1.4.0.tar.gz
###
##############################################################################
##############################################################################
install for i386
* installing *source* package 'SeqSQC' ...
** R
** inst
** byte-compile and prepare package for lazy loading
** help
*** installing help indices
converting help for package 'SeqSQC'
finding HTML links ... done
CCDS.Hs37.3.reduced_chr1.bed html
IBDCheck html
IBDRemove html
Inbreeding html
LoadVfile html
MissingRate html
PCACheck html
RenderReport html
SeqOpen html
SeqSQC-class html
SeqSQC-package html
SexCheck html
example.gds html
example.seqfile.Rdata html
example_sub.vcf html
plotQC html
problemList html
sampleAnnotation.txt html
sampleQC html
** building package indices
** installing vignettes
** testing if installed package can be loaded
In R CMD INSTALL
install for x64
* installing *source* package 'SeqSQC' ...
** testing if installed package can be loaded
* MD5 sums
packaged installation of 'SeqSQC' as SeqSQC_1.4.0.zip
* DONE (SeqSQC)
In R CMD INSTALL
In R CMD INSTALL