| Back to Multiple platform build/check report for BioC 3.8 | 
  | 
This page was generated on 2019-04-16 11:53:23 -0400 (Tue, 16 Apr 2019).
| Package 1402/1649 | Hostname | OS / Arch | INSTALL | BUILD | CHECK | BUILD BIN | ||||||
| Sconify 1.2.1 Tyler J Burns 
  | malbec1 | Linux (Ubuntu 16.04.6 LTS) / x86_64 | [ OK ] | OK | WARNINGS | |||||||
| merida1 | OS X 10.11.6 El Capitan / x86_64 | OK | OK | WARNINGS | OK | 
| Package: Sconify | 
| Version: 1.2.1 | 
| Command: /home/biocbuild/bbs-3.8-bioc/R/bin/R CMD INSTALL Sconify | 
| StartedAt: 2019-04-15 18:05:40 -0400 (Mon, 15 Apr 2019) | 
| EndedAt: 2019-04-15 18:05:46 -0400 (Mon, 15 Apr 2019) | 
| EllapsedTime: 6.4 seconds | 
| RetCode: 0 | 
| Status: OK | 
############################################################################## ############################################################################## ### ### Running command: ### ### /home/biocbuild/bbs-3.8-bioc/R/bin/R CMD INSTALL Sconify ### ############################################################################## ############################################################################## * installing to library ‘/home/biocbuild/bbs-3.8-bioc/R/library’ * installing *source* package ‘Sconify’ ... ** R ** data *** moving datasets to lazyload DB ** inst ** byte-compile and prepare package for lazy loading Warning: replacing previous import ‘flowCore::view’ by ‘tibble::view’ when loading ‘Sconify’ Note: wrong number of arguments to '/' Note: wrong number of arguments to 'asinh' ** help *** installing help indices ** building package indices ** installing vignettes ** testing if installed package can be loaded Warning: replacing previous import ‘flowCore::view’ by ‘tibble::view’ when loading ‘Sconify’ * DONE (Sconify)