| Back to Multiple platform build/check report for BioC 3.8 |
|
This page was generated on 2019-04-16 11:52:50 -0400 (Tue, 16 Apr 2019).
| Package 1389/1649 | Hostname | OS / Arch | INSTALL | BUILD | CHECK | BUILD BIN | ||||||
| Scale4C 1.4.0 Carolin Walter
| malbec1 | Linux (Ubuntu 16.04.6 LTS) / x86_64 | OK | OK | [ OK ] | |||||||
| merida1 | OS X 10.11.6 El Capitan / x86_64 | OK | OK | OK | OK |
| Package: Scale4C |
| Version: 1.4.0 |
| Command: /home/biocbuild/bbs-3.8-bioc/R/bin/R CMD check --install=check:Scale4C.install-out.txt --library=/home/biocbuild/bbs-3.8-bioc/R/library --no-vignettes --timings Scale4C_1.4.0.tar.gz |
| StartedAt: 2019-04-16 02:53:33 -0400 (Tue, 16 Apr 2019) |
| EndedAt: 2019-04-16 02:56:08 -0400 (Tue, 16 Apr 2019) |
| EllapsedTime: 155.0 seconds |
| RetCode: 0 |
| Status: OK |
| CheckDir: Scale4C.Rcheck |
| Warnings: 0 |
##############################################################################
##############################################################################
###
### Running command:
###
### /home/biocbuild/bbs-3.8-bioc/R/bin/R CMD check --install=check:Scale4C.install-out.txt --library=/home/biocbuild/bbs-3.8-bioc/R/library --no-vignettes --timings Scale4C_1.4.0.tar.gz
###
##############################################################################
##############################################################################
* using log directory ‘/home/biocbuild/bbs-3.8-bioc/meat/Scale4C.Rcheck’
* using R version 3.5.3 (2019-03-11)
* using platform: x86_64-pc-linux-gnu (64-bit)
* using session charset: UTF-8
* using option ‘--no-vignettes’
* checking for file ‘Scale4C/DESCRIPTION’ ... OK
* checking extension type ... Package
* this is package ‘Scale4C’ version ‘1.4.0’
* checking package namespace information ... OK
* checking package dependencies ... OK
* checking if this is a source package ... OK
* checking if there is a namespace ... OK
* checking for hidden files and directories ... OK
* checking for portable file names ... OK
* checking for sufficient/correct file permissions ... OK
* checking whether package ‘Scale4C’ can be installed ... OK
* checking installed package size ... OK
* checking package directory ... OK
* checking ‘build’ directory ... OK
* checking DESCRIPTION meta-information ... OK
* checking top-level files ... OK
* checking for left-over files ... OK
* checking index information ... OK
* checking package subdirectories ... OK
* checking R files for non-ASCII characters ... OK
* checking R files for syntax errors ... OK
* checking whether the package can be loaded ... OK
* checking whether the package can be loaded with stated dependencies ... OK
* checking whether the package can be unloaded cleanly ... OK
* checking whether the namespace can be loaded with stated dependencies ... OK
* checking whether the namespace can be unloaded cleanly ... OK
* checking dependencies in R code ... OK
* checking S3 generic/method consistency ... OK
* checking replacement functions ... OK
* checking foreign function calls ... OK
* checking R code for possible problems ... OK
* checking Rd files ... OK
* checking Rd metadata ... OK
* checking Rd cross-references ... OK
* checking for missing documentation entries ... OK
* checking for code/documentation mismatches ... OK
* checking Rd \usage sections ... OK
* checking Rd contents ... OK
* checking for unstated dependencies in examples ... OK
* checking contents of ‘data’ directory ... OK
* checking data for non-ASCII characters ... OK
* checking data for ASCII and uncompressed saves ... OK
* checking files in ‘vignettes’ ... OK
* checking examples ... OK
Examples with CPU or elapsed time > 5s
user system elapsed
findSingularities 8.06 0.044 8.116
* checking for unstated dependencies in vignettes ... OK
* checking package vignettes in ‘inst/doc’ ... OK
* checking running R code from vignettes ... SKIPPED
* checking re-building of vignette outputs ... SKIPPED
* checking PDF version of manual ... OK
* DONE
Status: OK
Scale4C.Rcheck/00install.out
############################################################################## ############################################################################## ### ### Running command: ### ### /home/biocbuild/bbs-3.8-bioc/R/bin/R CMD INSTALL Scale4C ### ############################################################################## ############################################################################## * installing to library ‘/home/biocbuild/bbs-3.8-bioc/R/library’ * installing *source* package ‘Scale4C’ ... ** R ** data ** inst ** byte-compile and prepare package for lazy loading ** help *** installing help indices ** building package indices ** installing vignettes ** testing if installed package can be loaded * DONE (Scale4C)
Scale4C.Rcheck/Scale4C-Ex.timings
| name | user | system | elapsed | |
| Scale4C-class | 0.000 | 0.000 | 0.001 | |
| Scale4C | 0.224 | 0.020 | 0.261 | |
| addPointsOfInterest | 0.276 | 0.032 | 0.333 | |
| calculateFingerprintMap | 0.136 | 0.000 | 0.134 | |
| calculateScaleSpace | 0.104 | 0.000 | 0.105 | |
| findSingularities | 8.060 | 0.044 | 8.116 | |
| importBasic4CseqData | 0.044 | 0.004 | 0.046 | |
| liverData | 0.008 | 0.000 | 0.007 | |
| liverDataVP | 0.004 | 0.004 | 0.006 | |
| outputScaleSpaceTree | 3.124 | 0.000 | 3.128 | |
| plotInflectionPoints | 0.024 | 0.004 | 0.024 | |
| plotTesselation | 0 | 0 | 0 | |
| plotTraceback | 0 | 0 | 0 | |