| Back to Multiple platform build/check report for BioC 3.8 | 
 | 
This page was generated on 2019-04-16 11:55:11 -0400 (Tue, 16 Apr 2019).
| Package 1382/1649 | Hostname | OS / Arch | INSTALL | BUILD | CHECK | BUILD BIN | ||||||
| SamSPECTRAL 1.36.1 Habil 
 | malbec1 | Linux (Ubuntu 16.04.6 LTS) / x86_64 | OK | OK | WARNINGS |  | ||||||
| merida1 | OS X 10.11.6 El Capitan / x86_64 | OK | OK | WARNINGS | [ OK ] |  | 
| Package: SamSPECTRAL | 
| Version: 1.36.1 | 
| Command: rm -rf SamSPECTRAL.buildbin-libdir && mkdir SamSPECTRAL.buildbin-libdir && /Users/biocbuild/BBS/utils/build-universal.sh SamSPECTRAL_1.36.1.tar.gz /Library/Frameworks/R.framework/Versions/Current/Resources/bin/R SamSPECTRAL.buildbin-libdir | 
| StartedAt: 2019-04-16 04:42:21 -0400 (Tue, 16 Apr 2019) | 
| EndedAt: 2019-04-16 04:42:59 -0400 (Tue, 16 Apr 2019) | 
| EllapsedTime: 38.0 seconds | 
| RetCode: 0 | 
| Status: OK | 
| PackageFile: SamSPECTRAL_1.36.1.tgz | 
| PackageFileSize: 808.4 KiB | 
############################################################################## ############################################################################## ### ### Running command: ### ### rm -rf SamSPECTRAL.buildbin-libdir && mkdir SamSPECTRAL.buildbin-libdir && /Users/biocbuild/BBS/utils/build-universal.sh SamSPECTRAL_1.36.1.tar.gz /Library/Frameworks/R.framework/Versions/Current/Resources/bin/R SamSPECTRAL.buildbin-libdir ### ############################################################################## ############################################################################## >>>>>>> >>>>>>> INSTALLATION WITH 'R CMD INSTALL --preclean --no-multiarch --library=SamSPECTRAL.buildbin-libdir SamSPECTRAL_1.36.1.tar.gz' >>>>>>> * installing *source* package ‘SamSPECTRAL’ ... ** libs clang -I"/Library/Frameworks/R.framework/Resources/include" -DNDEBUG -I/usr/local/include -fPIC -Wall -g -O2 -c Rinit.c -o Rinit.o clang -I"/Library/Frameworks/R.framework/Resources/include" -DNDEBUG -I/usr/local/include -fPIC -Wall -g -O2 -c conductance_computation.c -o conductance_computation.o clang -I"/Library/Frameworks/R.framework/Resources/include" -DNDEBUG -I/usr/local/include -fPIC -Wall -g -O2 -c maximum_of_rows.c -o maximum_of_rows.o clang -dynamiclib -Wl,-headerpad_max_install_names -undefined dynamic_lookup -single_module -multiply_defined suppress -L/Library/Frameworks/R.framework/Resources/lib -L/usr/local/lib -o SamSPECTRAL.so Rinit.o conductance_computation.o maximum_of_rows.o -F/Library/Frameworks/R.framework/.. -framework R -Wl,-framework -Wl,CoreFoundation installing to /Users/biocbuild/bbs-3.8-bioc/meat/SamSPECTRAL.buildbin-libdir/SamSPECTRAL/libs ** R ** data ** inst ** byte-compile and prepare package for lazy loading ** help *** installing help indices ** building package indices ** installing vignettes ** testing if installed package can be loaded * DONE (SamSPECTRAL) >>>>>>> >>>>>>> FIXING LINKS FOR SamSPECTRAL.buildbin-libdir/SamSPECTRAL/libs//SamSPECTRAL.so >>>>>>> install_name_tool -change "/usr/local/lib/libgcc_s.1.dylib" "/Library/Frameworks/R.framework/Versions/3.5/Resources/lib/libgcc_s.1.dylib" "SamSPECTRAL.buildbin-libdir/SamSPECTRAL/libs//SamSPECTRAL.so" install_name_tool -change "/usr/local/lib/libgfortran.3.dylib" "/Library/Frameworks/R.framework/Versions/3.5/Resources/lib/libgfortran.3.dylib" "SamSPECTRAL.buildbin-libdir/SamSPECTRAL/libs//SamSPECTRAL.so" install_name_tool -change "/usr/local/lib/libreadline.5.2.dylib" "/Library/Frameworks/R.framework/Versions/3.5/Resources/lib/libreadline.5.2.dylib" "SamSPECTRAL.buildbin-libdir/SamSPECTRAL/libs//SamSPECTRAL.so" install_name_tool -change "/usr/local/lib/libreadline.dylib" "/Library/Frameworks/R.framework/Versions/3.5/Resources/lib/libreadline.dylib" "SamSPECTRAL.buildbin-libdir/SamSPECTRAL/libs//SamSPECTRAL.so" install_name_tool -change "/usr/local/lib/libquadmath.0.dylib" "/Library/Frameworks/R.framework/Versions/3.5/Resources/lib/libquadmath.0.dylib" "SamSPECTRAL.buildbin-libdir/SamSPECTRAL/libs//SamSPECTRAL.so"