| Back to Multiple platform build/check report for BioC 3.8 | 
 | 
This page was generated on 2019-04-16 11:52:42 -0400 (Tue, 16 Apr 2019).
| Package 1522/1649 | Hostname | OS / Arch | INSTALL | BUILD | CHECK | BUILD BIN | ||||||
| STROMA4 1.6.1 Sadiq Saleh 
 | malbec1 | Linux (Ubuntu 16.04.6 LTS) / x86_64 | OK | [ OK ] | OK |  | ||||||
| merida1 | OS X 10.11.6 El Capitan / x86_64 | OK | OK | OK | OK |  | 
| Package: STROMA4 | 
| Version: 1.6.1 | 
| Command: /home/biocbuild/bbs-3.8-bioc/R/bin/R CMD build --keep-empty-dirs --no-resave-data STROMA4 | 
| StartedAt: 2019-04-15 21:17:31 -0400 (Mon, 15 Apr 2019) | 
| EndedAt: 2019-04-15 21:17:48 -0400 (Mon, 15 Apr 2019) | 
| EllapsedTime: 17.0 seconds | 
| RetCode: 0 | 
| Status: OK | 
| PackageFile: STROMA4_1.6.1.tar.gz | 
| PackageFileSize: 159.4 KiB | 
############################################################################## ############################################################################## ### ### Running command: ### ### /home/biocbuild/bbs-3.8-bioc/R/bin/R CMD build --keep-empty-dirs --no-resave-data STROMA4 ### ############################################################################## ############################################################################## * checking for file ‘STROMA4/DESCRIPTION’ ... OK * preparing ‘STROMA4’: * checking DESCRIPTION meta-information ... OK * installing the package to build vignettes * creating vignettes ... OK * checking for LF line-endings in source and make files and shell scripts * checking for empty or unneeded directories * looking to see if a ‘data/datalist’ file should be added * building ‘STROMA4_1.6.1.tar.gz’