| Back to Multiple platform build/check report for BioC 3.8 |
|
This page was generated on 2019-04-13 11:23:16 -0400 (Sat, 13 Apr 2019).
| Package 1521/1649 | Hostname | OS / Arch | INSTALL | BUILD | CHECK | BUILD BIN | ||||||
| STRINGdb 1.22.0 Damian Szklarczyk
| malbec1 | Linux (Ubuntu 16.04.6 LTS) / x86_64 | OK | OK | NA | |||||||
| tokay1 | Windows Server 2012 R2 Standard / x64 | OK | OK | WARNINGS | [ OK ] | |||||||
| merida1 | OS X 10.11.6 El Capitan / x86_64 | OK | OK | WARNINGS | OK |
| Package: STRINGdb |
| Version: 1.22.0 |
| Command: rm -rf STRINGdb.buildbin-libdir && mkdir STRINGdb.buildbin-libdir && C:\Users\biocbuild\bbs-3.8-bioc\R\bin\R.exe CMD INSTALL --merge-multiarch --build --library=STRINGdb.buildbin-libdir STRINGdb_1.22.0.tar.gz |
| StartedAt: 2019-04-13 08:00:13 -0400 (Sat, 13 Apr 2019) |
| EndedAt: 2019-04-13 08:00:26 -0400 (Sat, 13 Apr 2019) |
| EllapsedTime: 12.7 seconds |
| RetCode: 0 |
| Status: OK |
| PackageFile: STRINGdb_1.22.0.zip |
| PackageFileSize: 8.352 MiB |
##############################################################################
##############################################################################
###
### Running command:
###
### rm -rf STRINGdb.buildbin-libdir && mkdir STRINGdb.buildbin-libdir && C:\Users\biocbuild\bbs-3.8-bioc\R\bin\R.exe CMD INSTALL --merge-multiarch --build --library=STRINGdb.buildbin-libdir STRINGdb_1.22.0.tar.gz
###
##############################################################################
##############################################################################
install for i386
* installing *source* package 'STRINGdb' ...
** R
** data
** inst
** byte-compile and prepare package for lazy loading
Note: possible error in 'spinglass.community(get_subnetwork(string_ids), ': unused arguments (merges = TRUE, modularity = TRUE)
** help
*** installing help indices
converting help for package 'STRINGdb'
finding HTML links ... done
STRINGdb-class html
add_diff_exp_color html
add_proteins_description html
benchmark_ppi html
benchmark_ppi_pathway_view html
coeffOfvar html
delColDf html
diff_exp_example1 html
downloadAbsentFile html
downloadAbsentFileSTRING html
get_STRING_species html
get_aliases html
get_annotations html
get_annotations_desc html
get_bioc_graph html
get_clusters html
get_enrichment html
get_graph html
get_homologs html
get_homologs_besthits html
get_interactions html
get_link html
get_neighbors html
get_png html
get_ppi_enrichment html
get_ppi_enrichment_full html
get_proteins html
get_pubmed html
get_pubmed_interaction html
get_subnetwork html
get_summary html
get_term_proteins html
interactions html
load html
load_all html
map html
mp html
multi_map_df html
plot_network html
plot_ppi_enrichment html
plot_ppi_enrichment_graph html
post_payload html
ppi_enrichment html
ppi_enrichment_full html
ppie.compLambda html
ppie.compLambdaL1L2 html
ppie.compPij html
ppie.getNumEdgesBetween html
remove_homologous_interactions html
renameColDf html
set_background html
** building package indices
** installing vignettes
** testing if installed package can be loaded
In R CMD INSTALL
install for x64
* installing *source* package 'STRINGdb' ...
** testing if installed package can be loaded
* MD5 sums
packaged installation of 'STRINGdb' as STRINGdb_1.22.0.zip
* DONE (STRINGdb)
In R CMD INSTALL
In R CMD INSTALL