| Back to Multiple platform build/check report for BioC 3.8 |
|
This page was generated on 2019-04-16 11:52:21 -0400 (Tue, 16 Apr 2019).
| Package 1496/1649 | Hostname | OS / Arch | INSTALL | BUILD | CHECK | BUILD BIN | ||||||
| SPLINTER 1.8.1 Diana Low
| malbec1 | Linux (Ubuntu 16.04.6 LTS) / x86_64 | OK | OK | [ OK ] | |||||||
| merida1 | OS X 10.11.6 El Capitan / x86_64 | OK | OK | OK | OK |
| Package: SPLINTER |
| Version: 1.8.1 |
| Command: /home/biocbuild/bbs-3.8-bioc/R/bin/R CMD check --install=check:SPLINTER.install-out.txt --library=/home/biocbuild/bbs-3.8-bioc/R/library --no-vignettes --timings SPLINTER_1.8.1.tar.gz |
| StartedAt: 2019-04-16 03:13:47 -0400 (Tue, 16 Apr 2019) |
| EndedAt: 2019-04-16 03:18:44 -0400 (Tue, 16 Apr 2019) |
| EllapsedTime: 296.5 seconds |
| RetCode: 0 |
| Status: OK |
| CheckDir: SPLINTER.Rcheck |
| Warnings: 0 |
##############################################################################
##############################################################################
###
### Running command:
###
### /home/biocbuild/bbs-3.8-bioc/R/bin/R CMD check --install=check:SPLINTER.install-out.txt --library=/home/biocbuild/bbs-3.8-bioc/R/library --no-vignettes --timings SPLINTER_1.8.1.tar.gz
###
##############################################################################
##############################################################################
* using log directory ‘/home/biocbuild/bbs-3.8-bioc/meat/SPLINTER.Rcheck’
* using R version 3.5.3 (2019-03-11)
* using platform: x86_64-pc-linux-gnu (64-bit)
* using session charset: UTF-8
* using option ‘--no-vignettes’
* checking for file ‘SPLINTER/DESCRIPTION’ ... OK
* checking extension type ... Package
* this is package ‘SPLINTER’ version ‘1.8.1’
* package encoding: UTF-8
* checking package namespace information ... OK
* checking package dependencies ... OK
* checking if this is a source package ... OK
* checking if there is a namespace ... OK
* checking for hidden files and directories ... OK
* checking for portable file names ... OK
* checking for sufficient/correct file permissions ... OK
* checking whether package ‘SPLINTER’ can be installed ... OK
* checking installed package size ... OK
* checking package directory ... OK
* checking ‘build’ directory ... OK
* checking DESCRIPTION meta-information ... OK
* checking top-level files ... OK
* checking for left-over files ... OK
* checking index information ... OK
* checking package subdirectories ... OK
* checking R files for non-ASCII characters ... OK
* checking R files for syntax errors ... OK
* checking whether the package can be loaded ... OK
* checking whether the package can be loaded with stated dependencies ... OK
* checking whether the package can be unloaded cleanly ... OK
* checking whether the namespace can be loaded with stated dependencies ... OK
* checking whether the namespace can be unloaded cleanly ... OK
* checking dependencies in R code ... OK
* checking S3 generic/method consistency ... OK
* checking replacement functions ... OK
* checking foreign function calls ... OK
* checking R code for possible problems ... OK
* checking Rd files ... OK
* checking Rd metadata ... OK
* checking Rd cross-references ... OK
* checking for missing documentation entries ... OK
* checking for code/documentation mismatches ... OK
* checking Rd \usage sections ... OK
* checking Rd contents ... OK
* checking for unstated dependencies in examples ... OK
* checking contents of ‘data’ directory ... OK
* checking data for non-ASCII characters ... OK
* checking data for ASCII and uncompressed saves ... OK
* checking files in ‘vignettes’ ... OK
* checking examples ... OK
Examples with CPU or elapsed time > 5s
user system elapsed
eventPlot 11.912 0.096 12.174
addEnsemblAnnotation 0.464 0.016 12.217
* checking for unstated dependencies in vignettes ... OK
* checking package vignettes in ‘inst/doc’ ... OK
* checking running R code from vignettes ... SKIPPED
* checking re-building of vignette outputs ... SKIPPED
* checking PDF version of manual ... OK
* DONE
Status: OK
SPLINTER.Rcheck/00install.out
############################################################################## ############################################################################## ### ### Running command: ### ### /home/biocbuild/bbs-3.8-bioc/R/bin/R CMD INSTALL SPLINTER ### ############################################################################## ############################################################################## * installing to library ‘/home/biocbuild/bbs-3.8-bioc/R/library’ * installing *source* package ‘SPLINTER’ ... ** R ** data *** moving datasets to lazyload DB ** inst ** byte-compile and prepare package for lazy loading Creating a generic function for 'toJSON' from package 'jsonlite' in package 'googleVis' ** help *** installing help indices ** building package indices ** installing vignettes ** testing if installed package can be loaded Creating a generic function for 'toJSON' from package 'jsonlite' in package 'googleVis' * DONE (SPLINTER)
SPLINTER.Rcheck/SPLINTER-Ex.timings
| name | user | system | elapsed | |
| acceptor.m | 0.004 | 0.000 | 0.003 | |
| addEnsemblAnnotation | 0.464 | 0.016 | 12.217 | |
| callPrimer3 | 0.000 | 0.000 | 0.001 | |
| checkPrimer | 0.120 | 0.000 | 0.125 | |
| compatible_cds | 0.004 | 0.000 | 0.001 | |
| compatible_tx | 0.000 | 0.000 | 0.001 | |
| donor.m | 0.004 | 0.000 | 0.001 | |
| eventOutcomeCompare | 1.524 | 0.032 | 1.576 | |
| eventOutcomeTranslate | 0.644 | 0.000 | 0.644 | |
| eventPlot | 11.912 | 0.096 | 12.174 | |
| extendROI | 0.708 | 0.020 | 0.730 | |
| extractSpliceEvents | 0.004 | 0.000 | 0.003 | |
| extractSpliceSites | 0.056 | 0.000 | 0.054 | |
| findCompatibleEvents | 0.280 | 0.000 | 0.281 | |
| findCompatibleExon | 0.256 | 0.000 | 0.255 | |
| findTX | 0.008 | 0.000 | 0.009 | |
| getPCRsizes | 3.928 | 0.160 | 4.334 | |
| getRegionDNA | 0.384 | 0.000 | 0.382 | |
| insertRegion | 0.180 | 0.000 | 0.182 | |
| makeROI | 0.352 | 0.000 | 0.348 | |
| makeUniqueIDs | 0.004 | 0.000 | 0.004 | |
| pcr_result1 | 0.000 | 0.000 | 0.001 | |
| plot_seqlogo | 0.064 | 0.000 | 0.068 | |
| primers | 0.000 | 0.000 | 0.001 | |
| psiPlot | 0.324 | 0.000 | 0.324 | |
| region_minus_exon | 0.004 | 0.000 | 0.002 | |
| roi | 0.000 | 0.000 | 0.002 | |
| shapiroAcceptor | 0.504 | 0.008 | 0.544 | |
| shapiroDonor | 0.564 | 0.012 | 0.580 | |
| splice_data | 0.000 | 0.000 | 0.001 | |
| splice_fasta | 0.000 | 0.000 | 0.001 | |
| splitPCRhit | 0.000 | 0.000 | 0.001 | |
| thecds | 0.000 | 0.000 | 0.001 | |
| theexons | 0.000 | 0.000 | 0.001 | |
| valid_cds | 0.000 | 0.000 | 0.001 | |
| valid_tx | 0.004 | 0.000 | 0.001 | |