| Back to Multiple platform build/check report for BioC 3.8 | 
 | 
This page was generated on 2019-04-13 11:22:45 -0400 (Sat, 13 Apr 2019).
| Package 1486/1649 | Hostname | OS / Arch | INSTALL | BUILD | CHECK | BUILD BIN | ||||||
| SPEM 1.22.0 Xinyi YANG 
 | malbec1 | Linux (Ubuntu 16.04.6 LTS) / x86_64 | OK | OK | NA | |||||||
| tokay1 | Windows Server 2012 R2 Standard / x64 | OK | OK | OK | [ OK ] |  | ||||||
| merida1 | OS X 10.11.6 El Capitan / x86_64 | OK | OK | OK | OK |  | 
| Package: SPEM | 
| Version: 1.22.0 | 
| Command: rm -rf SPEM.buildbin-libdir && mkdir SPEM.buildbin-libdir && C:\Users\biocbuild\bbs-3.8-bioc\R\bin\R.exe CMD INSTALL --merge-multiarch --build --library=SPEM.buildbin-libdir SPEM_1.22.0.tar.gz | 
| StartedAt: 2019-04-13 07:59:09 -0400 (Sat, 13 Apr 2019) | 
| EndedAt: 2019-04-13 07:59:18 -0400 (Sat, 13 Apr 2019) | 
| EllapsedTime: 9.5 seconds | 
| RetCode: 0 | 
| Status: OK | 
| PackageFile: SPEM_1.22.0.zip | 
| PackageFileSize: 395 KiB | 
##############################################################################
##############################################################################
###
### Running command:
###
###   rm -rf SPEM.buildbin-libdir && mkdir SPEM.buildbin-libdir && C:\Users\biocbuild\bbs-3.8-bioc\R\bin\R.exe CMD INSTALL --merge-multiarch --build --library=SPEM.buildbin-libdir SPEM_1.22.0.tar.gz
###
##############################################################################
##############################################################################
install for i386
* installing *source* package 'SPEM' ...
** R
** data
** inst
** byte-compile and prepare package for lazy loading
** help
*** installing help indices
  converting help for package 'SPEM'
    finding HTML links ... done
    SPEM-package                            html  
    SPEM                                    html  
    row_optimize                            html  
    s_diff                                  html  
    sos                                     html  
** building package indices
** installing vignettes
** testing if installed package can be loaded
In R CMD INSTALL
install for x64
* installing *source* package 'SPEM' ...
** testing if installed package can be loaded
* MD5 sums
packaged installation of 'SPEM' as SPEM_1.22.0.zip
* DONE (SPEM)
In R CMD INSTALL
In R CMD INSTALL