| Back to Multiple platform build/check report for BioC 3.8 | 
 | 
This page was generated on 2019-04-16 11:53:22 -0400 (Tue, 16 Apr 2019).
| Package 1414/1649 | Hostname | OS / Arch | INSTALL | BUILD | CHECK | BUILD BIN | ||||||
| SEPIRA 1.2.0 Yuting Chen 
 | malbec1 | Linux (Ubuntu 16.04.6 LTS) / x86_64 | OK | [ OK ] | OK |  | ||||||
| merida1 | OS X 10.11.6 El Capitan / x86_64 | OK | OK | OK | OK |  | 
| Package: SEPIRA | 
| Version: 1.2.0 | 
| Command: /home/biocbuild/bbs-3.8-bioc/R/bin/R CMD build --keep-empty-dirs --no-resave-data SEPIRA | 
| StartedAt: 2019-04-15 21:40:55 -0400 (Mon, 15 Apr 2019) | 
| EndedAt: 2019-04-15 21:41:12 -0400 (Mon, 15 Apr 2019) | 
| EllapsedTime: 16.5 seconds | 
| RetCode: 0 | 
| Status: OK | 
| PackageFile: SEPIRA_1.2.0.tar.gz | 
| PackageFileSize: 10.11 MiB | 
##############################################################################
##############################################################################
###
### Running command:
###
###   /home/biocbuild/bbs-3.8-bioc/R/bin/R CMD build --keep-empty-dirs --no-resave-data SEPIRA
###
##############################################################################
##############################################################################
* checking for file ‘SEPIRA/DESCRIPTION’ ... OK
* preparing ‘SEPIRA’:
* checking DESCRIPTION meta-information ... OK
* installing the package to build vignettes
* creating vignettes ... OK
Warning: ‘inst/doc’ files
    ‘SEPIRA.Rmd’, ‘SEPIRA.html’, ‘SEPIRA.R’
  ignored as vignettes have been rebuilt.
  Run R CMD build with --no-build-vignettes to prevent rebuilding.
* checking for LF line-endings in source and make files and shell scripts
* checking for empty or unneeded directories
* looking to see if a ‘data/datalist’ file should be added
* building ‘SEPIRA_1.2.0.tar.gz’