| Back to Multiple platform build/check report for BioC 3.8 |
|
This page was generated on 2019-04-13 11:24:56 -0400 (Sat, 13 Apr 2019).
| Package 1410/1649 | Hostname | OS / Arch | INSTALL | BUILD | CHECK | BUILD BIN | ||||||
| SELEX 1.14.0 Harmen Bussemaker
| malbec1 | Linux (Ubuntu 16.04.6 LTS) / x86_64 | OK | OK | NA | |||||||
| tokay1 | Windows Server 2012 R2 Standard / x64 | OK | OK | OK | [ OK ] | |||||||
| merida1 | OS X 10.11.6 El Capitan / x86_64 | OK | OK | OK | OK |
| Package: SELEX |
| Version: 1.14.0 |
| Command: rm -rf SELEX.buildbin-libdir && mkdir SELEX.buildbin-libdir && C:\Users\biocbuild\bbs-3.8-bioc\R\bin\R.exe CMD INSTALL --merge-multiarch --build --library=SELEX.buildbin-libdir SELEX_1.14.0.tar.gz |
| StartedAt: 2019-04-13 07:56:03 -0400 (Sat, 13 Apr 2019) |
| EndedAt: 2019-04-13 07:56:15 -0400 (Sat, 13 Apr 2019) |
| EllapsedTime: 11.1 seconds |
| RetCode: 0 |
| Status: OK |
| PackageFile: SELEX_1.14.0.zip |
| PackageFileSize: 1.729 MiB |
##############################################################################
##############################################################################
###
### Running command:
###
### rm -rf SELEX.buildbin-libdir && mkdir SELEX.buildbin-libdir && C:\Users\biocbuild\bbs-3.8-bioc\R\bin\R.exe CMD INSTALL --merge-multiarch --build --library=SELEX.buildbin-libdir SELEX_1.14.0.tar.gz
###
##############################################################################
##############################################################################
install for i386
* installing *source* package 'SELEX' ...
** R
** inst
** byte-compile and prepare package for lazy loading
** help
*** installing help indices
converting help for package 'SELEX'
finding HTML links ... done
SELEX html
selex.affinities html
selex.config html
selex.countSummary html
selex.counts html
selex.defineSample html
selex.exampledata html
selex.fastqPSFM html
selex.getAttributes html
selex.getRound0 html
selex.getSeqfilter html
selex.infogain html
selex.infogainSummary html
selex.jvmStatus html
selex.kmax html
selex.kmerPSFM html
selex.loadAnnotation html
selex.mm html
selex.mmProb html
selex.mmSummary html
selex.revcomp html
selex.run html
selex.sample html
selex.samplePSFM html
selex.sampleSummary html
selex.saveAnnotation html
selex.seqfilter html
selex.setwd html
selex.split html
selex.summary html
** building package indices
** installing vignettes
** testing if installed package can be loaded
In R CMD INSTALL
install for x64
* installing *source* package 'SELEX' ...
** testing if installed package can be loaded
* MD5 sums
packaged installation of 'SELEX' as SELEX_1.14.0.zip
* DONE (SELEX)
In R CMD INSTALL
In R CMD INSTALL