| Back to Multiple platform build/check report for BioC 3.8 | 
  | 
This page was generated on 2019-04-16 12:00:50 -0400 (Tue, 16 Apr 2019).
| Package 1400/1649 | Hostname | OS / Arch | INSTALL | BUILD | CHECK | BUILD BIN | ||||||
| SCnorm 1.4.7 Rhonda Bacher 
  | malbec1 | Linux (Ubuntu 16.04.6 LTS) / x86_64 | OK | OK | OK | |||||||
| merida1 | OS X 10.11.6 El Capitan / x86_64 | OK | OK | OK | [ OK ] | 
| Package: SCnorm | 
| Version: 1.4.7 | 
| Command: rm -rf SCnorm.buildbin-libdir && mkdir SCnorm.buildbin-libdir && /Users/biocbuild/BBS/utils/build-universal.sh SCnorm_1.4.7.tar.gz /Library/Frameworks/R.framework/Versions/Current/Resources/bin/R SCnorm.buildbin-libdir | 
| StartedAt: 2019-04-16 04:43:07 -0400 (Tue, 16 Apr 2019) | 
| EndedAt: 2019-04-16 04:43:45 -0400 (Tue, 16 Apr 2019) | 
| EllapsedTime: 37.3 seconds | 
| RetCode: 0 | 
| Status: OK | 
| PackageFile: SCnorm_1.4.7.tgz | 
| PackageFileSize: 2.994 MiB | 
############################################################################## ############################################################################## ### ### Running command: ### ### rm -rf SCnorm.buildbin-libdir && mkdir SCnorm.buildbin-libdir && /Users/biocbuild/BBS/utils/build-universal.sh SCnorm_1.4.7.tar.gz /Library/Frameworks/R.framework/Versions/Current/Resources/bin/R SCnorm.buildbin-libdir ### ############################################################################## ############################################################################## >>>>>>> >>>>>>> INSTALLATION WITH 'R CMD INSTALL --preclean --no-multiarch --library=SCnorm.buildbin-libdir SCnorm_1.4.7.tar.gz' >>>>>>> * installing *source* package ‘SCnorm’ ... ** R ** data *** moving datasets to lazyload DB ** inst ** byte-compile and prepare package for lazy loading ** help *** installing help indices ** building package indices ** installing vignettes ** testing if installed package can be loaded * DONE (SCnorm)